BEGIN:VCALENDAR
VERSION:2.0
PRODID:-//ChamberMaster//Event Calendar 2.0//EN
METHOD:PUBLISH
X-PUBLISHED-TTL:P3D
REFRESH-INTERVAL:P3D
CALSCALE:GREGORIAN
BEGIN:VEVENT
DTSTART:20180206T230000Z
DTEND:20180207T010000Z
X-MICROSOFT-CDO-ALLDAYEVENT:FALSE
SUMMARY:Special Community Service Presentation
DESCRIPTION:St. Mary Villa invites ALL family members of  Veterans\, Widows of Veterans & Seniors to a Special Community Service Presentation by Scott Ferguson\, Certified in Long Term Care Veteran's Benefit Assistance Program & Care Planning Strategies Are either you or your spouse a Veteran? Learn how you can... Qualify & maximize VETERAN'S BENEFIT... [Especially reserved for Veterans & Widows of Veterans]
X-ALT-DESC;FMTTYPE=text/html:St. Mary Villa invites ALL family members of&nbsp\; Veterans\, Widows of Veterans &amp\; Seniors to a Special Community Service Presentation by Scott Ferguson\, Certified in Long Term Care Veteran&rsquo\;s Benefit Assistance Program &amp\; Care Planning Strategies Are either you or your spouse a Veteran? Learn how you can... Qualify &amp\; maximize VETERAN&rsquo\;S BENEFIT... [Especially reserved for Veterans &amp\; Widows of Veterans]
LOCATION:St. Mary Villa Personal Care Community Room 701 Lansdale Ave Lansdale PA 19446
UID:e.2385.2996
SEQUENCE:3
DTSTAMP:20260421T160335Z
URL:https://business.chambergmc.org/events/details/special-community-service-presentation-02-06-2018-2996
END:VEVENT

END:VCALENDAR
