BEGIN:VCALENDAR
VERSION:2.0
PRODID:-//ChamberMaster//Event Calendar 2.0//EN
METHOD:PUBLISH
X-PUBLISHED-TTL:P3D
REFRESH-INTERVAL:P3D
CALSCALE:GREGORIAN
BEGIN:VEVENT
DTSTART:20181019T210000Z
DTEND:20181020T010000Z
X-MICROSOFT-CDO-ALLDAYEVENT:FALSE
SUMMARY:Spooktacular Family Night
DESCRIPTION:Join us for an evening of Halloween activities\, crafts\, haunted house\, costume contest\, and more!  Cost is only $2 per person (ages 2+)\, children under 2 are free. Visit our website www.whitemarshparks.org or call us at 610-828-7276 for more information.
X-ALT-DESC;FMTTYPE=text/html:Join us for an evening of Halloween activities\, crafts\, haunted house\, costume contest\, and more!&nbsp\; Cost is only $2 per person (ages 2+)\, children under 2 are free. Visit our website www.whitemarshparks.org or call us at 610-828-7276 for more information.
LOCATION:Cedar Grove Barn\, 100 Cedar Grove Road\, Conshohocken PA
UID:e.2385.8008
SEQUENCE:3
DTSTAMP:20260422T014454Z
URL:https://business.chambergmc.org/events/details/spooktacular-family-night-8008
END:VEVENT

END:VCALENDAR
