BEGIN:VCALENDAR
VERSION:2.0
PRODID:-//ChamberMaster//Event Calendar 2.0//EN
METHOD:PUBLISH
X-PUBLISHED-TTL:P3D
REFRESH-INTERVAL:P3D
CALSCALE:GREGORIAN
BEGIN:VEVENT
DTSTART:20190417T223000Z
DTEND:20190417T233000Z
X-MICROSOFT-CDO-ALLDAYEVENT:FALSE
SUMMARY:Floral & Hardy Spotted Lanternfly Seminar
DESCRIPTION:FREE educational seminar about the Spotted Lanternfly (SLF).  This invasive and destructive pest is a threat to plants and trees!  Our seminar will cover the invasion\, distribution and identification of SLF.  Learn about SLF quarantine areas and what you can do to control its spread.  All information is research based from the Penn State Cooperative Extension Program and will be presented by Master Gardener\, Sharon Gross.  \n\n\nPlease RSVP: \n\nhttp://floralandhardyofskippack.com/events/spotted-lanternfly-seminar/
X-ALT-DESC;FMTTYPE=text/html:<div style="text-align:justify"><span style="background-color:transparent\; color:rgb(0\, 0\, 0)\; font-family:arial\,helvetica\,sans-serif\; font-size:13px">FREE educational seminar about the Spotted Lanternfly (SLF).&nbsp\; This invasive and destructive pest is a threat to plants and trees!&nbsp\; Our seminar will cover the invasion\, distribution and identification of SLF.&nbsp\; Learn about SLF quarantine areas and what you can do to control its spread.&nbsp\; All information is research based from the Penn State Cooperative Extension Program and will be presented by Master Gardener\, Sharon Gross.&nbsp\; </span></div>\n<br />\n<span style="background-color:transparent\; color:rgb(0\, 0\, 0)\; font-family:arial\,helvetica\,sans-serif\; font-size:13px">Please RSVP:&nbsp\;<br />\n<a href="http://floralandhardyofskippack.com/events/spotted-lanternfly-seminar/">http://floralandhardyofskippack.com/events/spotted-lanternfly-seminar/</a></span>
LOCATION:Floral & Hardy 4007 Skippack Pike Skippack\, PA 19474
UID:e.2385.8202
SEQUENCE:3
DTSTAMP:20260422T094259Z
URL:https://business.chambergmc.org/events/details/spotted-lanternfly-seminar-8202
END:VEVENT

END:VCALENDAR
