BEGIN:VCALENDAR
VERSION:2.0
PRODID:-//ChamberMaster//Event Calendar 2.0//EN
METHOD:PUBLISH
X-PUBLISHED-TTL:P3D
REFRESH-INTERVAL:P3D
CALSCALE:GREGORIAN
BEGIN:VEVENT
DTSTART:20180317T140000Z
DTEND:20180317T160000Z
X-MICROSOFT-CDO-ALLDAYEVENT:FALSE
SUMMARY:St. Patricks Day at The Greene Turtle
DESCRIPTION:Start St. Patty's Day with cheers! Our Guinness Power Hour begins at 10am with $1 Guinness. Price will increase $1 every hour and cap at $5. Breakfast buffet 10am-1pm $6.99 per person! The party continues all day with live music starting at 1! We will have march madness games on all day and a ton of fun for all! \n\n\n\nAdditional Specials:\n\n$5 Guinness Blonde \n\n$5 Jameson Whiskey \n\n$5 Tall "Greene" Beer\n\n$4 Shell Raiser Pint\n\n$5 Shooters
X-ALT-DESC;FMTTYPE=text/html:<span style="background-color:rgb(255\, 255\, 255)\; color:rgb(75\, 79\, 86)\; font-family:helvetica\,arial\,sans-serif\; font-size:14px">Start St. Patty&#39\;s Day with cheers! Our Guinness Power Hour begins at 10am with $1 Guinness. Price will increase $1 every hour and cap at $5. Breakfast buffet 10am-1pm $6.99 per person! The party continues all day with live music starting at 1! We will have march madness games on all day and a ton of fun for all!&nbsp\;</span><br />\n<br />\n<span style="background-color:rgb(255\, 255\, 255)\; color:rgb(75\, 79\, 86)\; font-family:helvetica\,arial\,sans-serif\; font-size:14px">Additional Specials:</span><br />\n<span style="background-color:rgb(255\, 255\, 255)\; color:rgb(75\, 79\, 86)\; font-family:helvetica\,arial\,sans-serif\; font-size:14px">$5 Guinness Blonde&nbsp\;</span><br />\n<span style="background-color:rgb(255\, 255\, 255)\; color:rgb(75\, 79\, 86)\; font-family:helvetica\,arial\,sans-serif\; font-size:14px">$5 Jameson Whiskey&nbsp\;</span><br />\n<span style="background-color:rgb(255\, 255\, 255)\; color:rgb(75\, 79\, 86)\; font-family:helvetica\,arial\,sans-serif\; font-size:14px">$5 Tall &quot\;Greene&quot\; Beer</span><br />\n<span style="background-color:rgb(255\, 255\, 255)\; color:rgb(75\, 79\, 86)\; font-family:helvetica\,arial\,sans-serif\; font-size:14px">$4 Shell Raiser Pint</span><br />\n<span style="background-color:rgb(255\, 255\, 255)\; color:rgb(75\, 79\, 86)\; font-family:helvetica\,arial\,sans-serif\; font-size:14px">$5 Shooters</span>
LOCATION:1100 Bethlehem Pike\, North Wales\, PA 19454
UID:e.2385.4287
SEQUENCE:3
DTSTAMP:20260421T162926Z
URL:https://business.chambergmc.org/events/details/st-patricks-day-at-the-greene-turtle-03-17-2018-4287
END:VEVENT

END:VCALENDAR
