BEGIN:VCALENDAR
VERSION:2.0
PRODID:-//ChamberMaster//Event Calendar 2.0//EN
METHOD:PUBLISH
X-PUBLISHED-TTL:P3D
REFRESH-INTERVAL:P3D
CALSCALE:GREGORIAN
BEGIN:VEVENT
DTSTART:20190509T220000Z
DTEND:20190510T003000Z
X-MICROSOFT-CDO-ALLDAYEVENT:FALSE
SUMMARY:Startup Stories\, Vol. 2
DESCRIPTION:Part of Philly Tech Week 2019 Join entrepreneurs\, investors\, mentors\, tech pros\, and influencers in Doylestown for the second evening of talks from experienced and new startups\, plus presentations and music from local artists. This night's featured speakers include: - - - Space is limited. Food and drinks will be provided.
X-ALT-DESC;FMTTYPE=text/html:Part of Philly Tech Week 2019 Join entrepreneurs\, investors\, mentors\, tech pros\, and influencers in Doylestown for the second evening of talks from experienced and new startups\, plus presentations and music from local artists. This night&#39\;s featured speakers include: - - - Space is limited. Food and drinks will be provided.
LOCATION:Stacks Co. 54 E. Oakland Ave. Doylestown\, PA 18901
UID:e.2385.8757
SEQUENCE:3
DTSTAMP:20260422T111623Z
URL:https://business.chambergmc.org/events/details/startup-stories-vol-2-8757
END:VEVENT

END:VCALENDAR
