BEGIN:VCALENDAR
VERSION:2.0
PRODID:-//ChamberMaster//Event Calendar 2.0//EN
METHOD:PUBLISH
X-PUBLISHED-TTL:P3D
REFRESH-INTERVAL:P3D
CALSCALE:GREGORIAN
BEGIN:VEVENT
DTSTART:20180803T220000Z
DTEND:20180804T010000Z
X-MICROSOFT-CDO-ALLDAYEVENT:FALSE
SUMMARY:Stone & Key Live Music Series - Christine Irizarry & Seth Aaron
DESCRIPTION:As part of our Live Music Series\, we are welcoming back local singer-songwriters Christine Irizarry and Seth Aaron from 7-9pm with no cover! Enjoy live music in our intimate winery setting along with a full selection of wines and ciders from Stone & Key\, as well as craft beers from local PA producers\, and meads from Haymaker Meadery. Irizarry and Aaron will be presenting a mixture of their individual work and duets. Irizzary draws inspiration in everything from the 1950's crooners\, to jazz\, to motown\, to indie\, to top 40 pop songs. She strives to create music that will tell a story and make the listener feel something real or see life in a way that they hadn't before. Aaron finds his muse in everything from folk to funk\, pouring his soulful voice and cleverly crafted lyrics over a gritty amalgam of rhythm and blues. Food Truck on site from 6-9pm. Check our social media for more details when we announce them.
X-ALT-DESC;FMTTYPE=text/html:As part of our Live Music Series\, we are welcoming back local singer-songwriters Christine Irizarry and Seth Aaron from 7-9pm with no cover! Enjoy live music in our intimate winery setting along with a full selection of wines and ciders from Stone &amp\; Key\, as well as craft beers from local PA producers\, and meads from Haymaker Meadery. Irizarry and Aaron will be presenting a mixture of their individual work and duets. Irizzary draws inspiration in everything from the 1950&rsquo\;s crooners\, to jazz\, to motown\, to indie\, to top 40 pop songs. She strives to create music that will tell a story and make the listener feel something real or see life in a way that they hadn&rsquo\;t before. Aaron finds his muse in everything from folk to funk\, pouring his soulful voice and cleverly crafted lyrics over a gritty amalgam of rhythm and blues. Food Truck on site from 6-9pm. Check our social media for more details when we announce them.
LOCATION:Stone and Key Cellars 435 Doylestown Road Montgomeryville\, PA 18936
UID:e.2385.7711
SEQUENCE:3
DTSTAMP:20260421T231505Z
URL:https://business.chambergmc.org/events/details/stone-key-live-music-series-christine-irizarry-seth-aaron-7711
END:VEVENT

END:VCALENDAR
