BEGIN:VCALENDAR
VERSION:2.0
PRODID:-//ChamberMaster//Event Calendar 2.0//EN
METHOD:PUBLISH
X-PUBLISHED-TTL:P3D
REFRESH-INTERVAL:P3D
CALSCALE:GREGORIAN
BEGIN:VEVENT
DTSTART:20180817T220000Z
DTEND:20180818T010000Z
X-MICROSOFT-CDO-ALLDAYEVENT:FALSE
SUMMARY:Stone & Key Live Music Series - Mojo & the Helper Monkeys
DESCRIPTION:Join us for another great installment of our Live Music Series with Mojo & the Helper Monkeys back at the winery from 7-9pm. Come early and grab yourself a drink and some delicious food from The Flying Deutschman Food Truck from 6-9pm.
X-ALT-DESC;FMTTYPE=text/html:Join us for another great installment of our Live Music Series with Mojo &amp\; the Helper Monkeys back at the winery from 7-9pm. Come early and grab yourself a drink and some delicious food from The Flying Deutschman Food Truck from 6-9pm.
LOCATION:Stone and Key Cellars 435 Doylestown Road Montgomeryville\, PA 18936
UID:e.2385.7713
SEQUENCE:3
DTSTAMP:20260421T230704Z
URL:https://business.chambergmc.org/events/details/stone-key-live-music-series-mojo-the-helper-monkeys-7713
END:VEVENT

END:VCALENDAR
