BEGIN:VCALENDAR
VERSION:2.0
PRODID:-//ChamberMaster//Event Calendar 2.0//EN
METHOD:PUBLISH
X-PUBLISHED-TTL:P3D
REFRESH-INTERVAL:P3D
CALSCALE:GREGORIAN
BEGIN:VEVENT
DTSTART:20180615T220000Z
DTEND:20180616T010000Z
X-MICROSOFT-CDO-ALLDAYEVENT:FALSE
SUMMARY:Stone & Key Live Music Series - Pentley Holmes
DESCRIPTION:Join us for another great installment in our Live Music Series with Pentley Holmes from 7pm - 9pm. 2 Street Sammies Food Truck will be on site serving up delicious food from 6pm - 9pm.
X-ALT-DESC;FMTTYPE=text/html:Join us for another great installment in our Live Music Series with Pentley Holmes from 7pm - 9pm. 2 Street Sammies Food Truck will be on site serving up delicious food from 6pm - 9pm.
LOCATION:Stone and Key Cellars 435 Doylestown Road Montgomeryville\, PA 18936
UID:e.2385.7703
SEQUENCE:3
DTSTAMP:20260421T214439Z
URL:https://business.chambergmc.org/events/details/stone-key-live-music-series-pentley-holmes-7703
END:VEVENT

END:VCALENDAR
