BEGIN:VCALENDAR
VERSION:2.0
PRODID:-//ChamberMaster//Event Calendar 2.0//EN
METHOD:PUBLISH
X-PUBLISHED-TTL:P3D
REFRESH-INTERVAL:P3D
CALSCALE:GREGORIAN
BEGIN:VEVENT
DTSTART:20180720T220000Z
DTEND:20180721T010000Z
X-MICROSOFT-CDO-ALLDAYEVENT:FALSE
SUMMARY:Stone & Key Live Music Series - Two Rocks Rye
DESCRIPTION:Join us on July 20th in welcoming back Two Rocks Rye! Enjoy live music from the band\, delicious wines and ciders from the bar and amazing food in a cone from Cone Appetit food truck\, on site from 6-9pm.
X-ALT-DESC;FMTTYPE=text/html:Join us on July 20th in welcoming back Two Rocks Rye! Enjoy live music from the band\, delicious wines and ciders from the bar and amazing food in a cone from Cone Appetit food truck\, on site from 6-9pm.
LOCATION:Stone and Key Cellars 435 Doylestown Road Montgomeryville\, PA 18936
UID:e.2385.7708
SEQUENCE:3
DTSTAMP:20260421T214240Z
URL:https://business.chambergmc.org/events/details/stone-key-live-music-series-two-rocks-rye-7708
END:VEVENT

END:VCALENDAR
