BEGIN:VCALENDAR
VERSION:2.0
PRODID:-//ChamberMaster//Event Calendar 2.0//EN
METHOD:PUBLISH
X-PUBLISHED-TTL:P3D
REFRESH-INTERVAL:P3D
CALSCALE:GREGORIAN
BEGIN:VEVENT
DTSTART:20200425T180000Z
DTEND:20200426T020000Z
X-MICROSOFT-CDO-ALLDAYEVENT:FALSE
SUMMARY:Stray Cat Blues Inc. Annual Fundraiser - Postponed
DESCRIPTION:This event has been postponed.\n\nFundraiser to benefit Stray Cat Blues\, Inc.  No ticket required.  Eat\, drink and have fun with adoptable cats and kittens.   Raffle. 50/50. Live Music. BBQ. Specialty Cocktails. Hosted by Boardroom Spirits\, 575 W 3rd Street\, Lansdale PA.
X-ALT-DESC;FMTTYPE=text/html:<span style="font-size:22px\;"><span style="color:#FF0000\;"><strong>This event has been postponed.</strong></span></span><br />\nFundraiser to benefit Stray Cat Blues\, Inc.&nbsp\; No ticket required.&nbsp\; Eat\, drink and have fun with adoptable cats and kittens.&nbsp\; &nbsp\;Raffle. 50/50. Live Music. BBQ. Specialty Cocktails.&nbsp\;Hosted by Boardroom Spirits\, 575 W 3rd Street\, Lansdale PA.&nbsp\;
LOCATION:Boardroom Spirits\, 575 W 3rd Street\, Lansdale\, PA
UID:e.2385.10273
SEQUENCE:3
DTSTAMP:20260423T093408Z
URL:https://business.chambergmc.org/events/details/stray-cat-blues-inc-annual-fundraiser-postponed-10273
END:VEVENT

END:VCALENDAR
