BEGIN:VCALENDAR
VERSION:2.0
PRODID:-//ChamberMaster//Event Calendar 2.0//EN
METHOD:PUBLISH
X-PUBLISHED-TTL:P3D
REFRESH-INTERVAL:P3D
CALSCALE:GREGORIAN
BEGIN:VEVENT
DTSTART;VALUE=DATE:20180204
DTEND;VALUE=DATE:20180205
TRANSP:TRANSPARENT
X-MICROSOFT-CDO-ALLDAYEVENT:TRUE
SUMMARY:Super Bowl Sunday Buffet
DESCRIPTION:Join us this Sunday for our Super Bowl Buffet! We have live entertainment from 3pm-6pm. Specials on Bud and Bud Light drafts\, and a wonderful buffet spread for only $19.99! Come out and support the Eagles and enjoy some great food and drinks! Contact us with any questions\, get in and get your spot for Sunday ASAP!
X-ALT-DESC;FMTTYPE=text/html:<span style="background-color:rgb(255\, 255\, 255)"><span style="font-size:14px">Join us this Sunday for our Super Bowl Buffet! We have live entertainment from 3pm-6pm. Specials on Bud and Bud Light drafts\, and a wonderful buffet spread for only $19.99! Come out and support the Eagles and enjoy some great food and drinks! Contact us with any questions\, get in and get your spot for Sunday ASAP!&nbsp\;</span></span>
LOCATION:The Greene Turtle (North Wales) 1100 Bethlehem Pike\, North Wales
UID:e.2385.3038
SEQUENCE:3
DTSTAMP:20260421T150105Z
URL:https://business.chambergmc.org/events/details/super-bowl-sunday-buffet-02-04-2018-3038
END:VEVENT

END:VCALENDAR
