BEGIN:VCALENDAR
VERSION:2.0
PRODID:-//ChamberMaster//Event Calendar 2.0//EN
METHOD:PUBLISH
X-PUBLISHED-TTL:P3D
REFRESH-INTERVAL:P3D
CALSCALE:GREGORIAN
BEGIN:VEVENT
DTSTART:20180318T193000Z
DTEND:20180318T213000Z
X-MICROSOFT-CDO-ALLDAYEVENT:FALSE
SUMMARY:SUSAN SANDLER’S ONE-WOMAN SHOW\, 'WINGS'\, HOW TO FIND YOUR VOICE ON THE OTHER SIDE OF FEAR
DESCRIPTION:Master storyteller and captivating performer\,\n\nSusan Sandler\, is a theatrical public speaker whose\n\nheart-grabbing\, powerful TEDx talk\, "Punch Fear\n\nin the Face & Claim Your Life\," received a standing\n\novation at TEDx Wilmington Women and continues\n\nto inspire women all over the world.\n\nSusan grew up in the entertainment business. She cut\n\nher teeth as a singer on TV\, radio and nightclubs. At\n\nan early age she learned how to move an audience\n\nemotionally and create magic from the stage.
X-ALT-DESC;FMTTYPE=text/html:<strong><span style="font-family:agaramondpro-regular\;">Master storyteller and captivating performer\,</span></strong><br />\n<strong><span style="font-family:agaramondpro-regular\;">Susan Sandler\, is a theatrical public speaker whose</span></strong><br />\n<strong><span style="font-family:agaramondpro-regular\;">heart-grabbing\, powerful TEDx talk\, &ldquo\;Punch Fear</span></strong><br />\n<strong><span style="font-family:agaramondpro-regular\;">in the Face &amp\; Claim Your Life\,&rdquo\; received a standing</span></strong><br />\n<strong><span style="font-family:agaramondpro-regular\;">ovation at TEDx Wilmington Women and continues</span></strong><br />\n<strong><span style="font-family:agaramondpro-regular\;">to inspire women all over the world.</span></strong><br />\n<strong><span style="font-family:agaramondpro-regular\;">Susan grew up in the entertainment business. She cut</span></strong><br />\n<strong><span style="font-family:agaramondpro-regular\;">her teeth as a singer on TV\, radio and nightclubs. At</span></strong><br />\n<strong><span style="font-family:agaramondpro-regular\;">an early age she learned how to move an audience</span></strong><br />\n<strong><span style="font-family:agaramondpro-regular\;">emotionally and create magic from the stage.</span></strong>
LOCATION:The Saturday Club 114 West Wayne Avenue Wayne\, PA 19087
UID:e.2385.3246
SEQUENCE:3
DTSTAMP:20260421T164558Z
URL:https://business.chambergmc.org/events/details/susan-sandler-s-one-woman-show-wings-how-to-find-your-voice-on-the-other-side-of-fear-03-18-2018-3246
END:VEVENT

END:VCALENDAR
