BEGIN:VCALENDAR
VERSION:2.0
PRODID:-//ChamberMaster//Event Calendar 2.0//EN
METHOD:PUBLISH
X-PUBLISHED-TTL:P3D
REFRESH-INTERVAL:P3D
CALSCALE:GREGORIAN
BEGIN:VEVENT
DTSTART:20190427T140000Z
DTEND:20190427T200000Z
X-MICROSOFT-CDO-ALLDAYEVENT:FALSE
SUMMARY:Take-It-Outside Event
DESCRIPTION:Whether a gorgeous 4K TV for the final season of Game of Thrones\, beautiful music everywhere\, or Wi-Fi access in every corner of the yard: outdoor entertainment has come of age and we're throwing a party to show you just how cool your backyard can be. Save the date for our 3rd annual outdoor event to see how you can take your music\, movies\, and Wi-Fi outside with today's latest outdoor entertainment systems. Enjoy special in-store pricing and savings on outdoor installation systems. We'll have the grill fired up and light refreshments will be served.
X-ALT-DESC;FMTTYPE=text/html:Whether a gorgeous 4K TV for the final season of Game of Thrones\, beautiful music everywhere\, or Wi-Fi access in every corner of the yard: outdoor entertainment has come of age and we&#39\;re throwing a party to show you just how cool your backyard can be. Save the date for our 3rd annual outdoor event to see how you can take your music\, movies\, and Wi-Fi outside with today&#39\;s latest outdoor entertainment systems. Enjoy special in-store pricing and savings on outdoor installation systems. We&#39\;ll have the grill fired up and light refreshments will be served.
LOCATION:World Wide Stereo 754 Route 309 (Bethlehem Pike) Montgomeryville\, PA 18936
UID:e.2385.8708
SEQUENCE:3
DTSTAMP:20260422T110420Z
URL:https://business.chambergmc.org/events/details/take-it-outside-event-8708
END:VEVENT

END:VCALENDAR
