BEGIN:VCALENDAR
VERSION:2.0
PRODID:-//ChamberMaster//Event Calendar 2.0//EN
METHOD:PUBLISH
X-PUBLISHED-TTL:P3D
REFRESH-INTERVAL:P3D
CALSCALE:GREGORIAN
BEGIN:VEVENT
DTSTART:20181025T210000Z
DTEND:20181025T230000Z
X-MICROSOFT-CDO-ALLDAYEVENT:FALSE
SUMMARY:Tap Into Transit
DESCRIPTION:Please join us for our first ever "Tap Into Transit" event at Round Guys Brewery in Lansdale on October 25th from 5pm to 7pm. Do you have an opinion on SEPTA Key\, SEPTA service or roadway questions? We want to hear from you so we can try to improve it! Drink specials and appetizers available for purchase.
X-ALT-DESC;FMTTYPE=text/html:Please join us for our first ever &quot\;Tap Into Transit&quot\; event at Round Guys Brewery in Lansdale on October 25th from 5pm to 7pm. Do you have an opinion on SEPTA Key\, SEPTA service or roadway questions? We want to hear from you so we can try to improve it! Drink specials and appetizers available for purchase.
LOCATION:Round Guys Brewery 324 W. Main St. Lansdale\, PA 19446
UID:e.2385.8064
SEQUENCE:3
DTSTAMP:20260422T013615Z
URL:https://business.chambergmc.org/events/details/tap-into-transit-8064
END:VEVENT

END:VCALENDAR
