BEGIN:VCALENDAR
VERSION:2.0
PRODID:-//ChamberMaster//Event Calendar 2.0//EN
METHOD:PUBLISH
X-PUBLISHED-TTL:P3D
REFRESH-INTERVAL:P3D
CALSCALE:GREGORIAN
BEGIN:VEVENT
DTSTART:20190321T220000Z
DTEND:20190322T010000Z
X-MICROSOFT-CDO-ALLDAYEVENT:FALSE
SUMMARY:Taste 2019
DESCRIPTION:This signature event brings together hundreds of supporters to savor offerings from more than 30 of the area's most popular restaurants and beverage vendors. Proceeds from this event provide relief to families caring for sick and disabled children through small grants for essentials not covered by insurance. Corporate sponsorship packages still available!
X-ALT-DESC;FMTTYPE=text/html:This signature event brings together hundreds of supporters to savor offerings from more than 30 of the area&#39\;s most popular restaurants and beverage vendors. Proceeds from this event provide relief to families caring for sick and disabled children through small grants for essentials not covered by insurance. Corporate sponsorship packages still available!
LOCATION:Normandy Farm 1401 Morris Road Blue Bell\, PA
UID:e.2385.8204
SEQUENCE:3
DTSTAMP:20260422T082423Z
URL:https://business.chambergmc.org/events/details/taste-2019-8204
END:VEVENT

END:VCALENDAR
