BEGIN:VCALENDAR
VERSION:2.0
PRODID:-//ChamberMaster//Event Calendar 2.0//EN
METHOD:PUBLISH
X-PUBLISHED-TTL:P3D
REFRESH-INTERVAL:P3D
CALSCALE:GREGORIAN
BEGIN:VEVENT
DTSTART:20250410T213000Z
DTEND:20250411T003000Z
X-MICROSOFT-CDO-ALLDAYEVENT:FALSE
SUMMARY:Taste of Montgomery County
DESCRIPTION:Join us for a festival of flavors as the North Wales Area Library partners with local restaurants\, caterers\, breweries\, and pubs to showcase a variety of their tastiest treats and mouthwatering morsels. Don't miss the awesome silent auction and raffles.
X-ALT-DESC;FMTTYPE=text/html:Join us for a festival of flavors as the North Wales Area Library partners with local restaurants\, caterers\, breweries\, and pubs to showcase a variety of their tastiest treats and mouthwatering morsels. Don&rsquo\;t miss the awesome silent auction and raffles.
LOCATION:Saint Rose of Lima Parish Hall 428 S. MAIN ST\, NORTH WALES\, PA 19454
UID:e.2385.12048
SEQUENCE:3
DTSTAMP:20260419T134402Z
URL:https://business.chambergmc.org/events/details/taste-of-montgomery-county-04-10-2025-12048
END:VEVENT

END:VCALENDAR
