BEGIN:VCALENDAR
VERSION:2.0
PRODID:-//ChamberMaster//Event Calendar 2.0//EN
METHOD:PUBLISH
X-PUBLISHED-TTL:P3D
REFRESH-INTERVAL:P3D
CALSCALE:GREGORIAN
BEGIN:VEVENT
DTSTART:20171201T123000Z
DTEND:20171201T143000Z
X-MICROSOFT-CDO-ALLDAYEVENT:FALSE
SUMMARY:Tax Reform
DESCRIPTION:Roy Kershaw\, CPA\, Tax Partner at Baum\, Smith & Clemens will be a Panelist at MCDC Breakfast Seminar Series. Federal and State Tax Credits and other incentive programs (Michael McCann) Scams to watch out for (Roy Kershaw) Tax changes for R&D Credit and the framework for national tax reform (Roy Kershaw) Join MCDC to explore some present tax benefits and new proposed tax reforms. The federal framework for tax reform will be addressed as well as tax changes for R&D tax credit. We will also identify scams you should be aware of. Switching gears\, we will report on tax incentives at the both federal and state level to help drive your business forward. 7:30 - 8 am\, check in and coffee/networking 8-9:30 Seminar and Q&A
X-ALT-DESC;FMTTYPE=text/html:Roy Kershaw\, CPA\, Tax Partner at Baum\, Smith &amp\; Clemens will be a Panelist at MCDC Breakfast Seminar Series. Federal and State Tax Credits and other incentive programs (Michael McCann) Scams to watch out for (Roy Kershaw) Tax changes for R&amp\;D Credit and the framework for national tax reform (Roy Kershaw) Join MCDC to explore some present tax benefits and new proposed tax reforms. The federal framework for tax reform will be addressed as well as tax changes for R&amp\;D tax credit. We will also identify scams you should be aware of. Switching gears\, we will report on tax incentives at the both federal and state level to help drive your business forward. 7:30 - 8 am\, check in and coffee/networking 8-9:30 Seminar and Q&amp\;A
LOCATION:Brandywine Realty Trust\, 401 Plymouth Road\, 2nd Floor Plymouth Meeting\, PA
UID:e.2385.2662
SEQUENCE:3
DTSTAMP:20260421T122654Z
URL:https://business.chambergmc.org/events/details/tax-reform-12-01-2017-2662
END:VEVENT

END:VCALENDAR
