BEGIN:VCALENDAR
VERSION:2.0
PRODID:-//ChamberMaster//Event Calendar 2.0//EN
METHOD:PUBLISH
X-PUBLISHED-TTL:P3D
REFRESH-INTERVAL:P3D
CALSCALE:GREGORIAN
BEGIN:VEVENT
DTSTART:20180408T153000Z
DTEND:20180408T190000Z
X-MICROSOFT-CDO-ALLDAYEVENT:FALSE
SUMMARY:Teamwork Wins Annual Fundraiser - Designer Bag BINGO
DESCRIPTION:Teamwork Wins Annual Designer Bag BINGO\n\nSunday April 8\, 2018\n\nBINGO Starts 1-3pm (Doors open at 11:30am\n\nEast Greenville Firehouse\n\n401 Washington St. East Greenville\, Pa\n\n26 Raffle baskets\n\n50/50\, and door prizes\n\n$25 for 20 games of BINGO\n\nCash Jackpot
X-ALT-DESC;FMTTYPE=text/html:<div style="text-align: center\;"><br />\nTeamwork Wins Annual Designer Bag BINGO<br />\nSunday April 8\, 2018<br />\nBINGO Starts 1-3pm (Doors open at 11:30am<br />\nEast Greenville Firehouse<br />\n401 Washington St. East Greenville\, Pa<br />\n26 Raffle baskets<br />\n50/50\, and door prizes<br />\n$25 for 20 games of BINGO<br />\nCash Jackpot&nbsp\;<br />\n<br />\n<br />\n&nbsp\;</div>\n
LOCATION:East Greenville Firehouse 401 Washington St. East Greenville\, Pa 18041
UID:e.2385.5317
SEQUENCE:3
DTSTAMP:20260421T174737Z
URL:https://business.chambergmc.org/events/details/teamwork-wins-annual-fundraiser-designer-bag-bingo-04-08-2018-5317
END:VEVENT

END:VCALENDAR
