BEGIN:VCALENDAR
VERSION:2.0
PRODID:-//ChamberMaster//Event Calendar 2.0//EN
METHOD:PUBLISH
X-PUBLISHED-TTL:P3D
REFRESH-INTERVAL:P3D
CALSCALE:GREGORIAN
BEGIN:VEVENT
DTSTART:20190628T153000Z
DTEND:20190628T170000Z
X-MICROSOFT-CDO-ALLDAYEVENT:FALSE
SUMMARY:Technology & Transportation: The Partnership TMA's Annual Meeting
DESCRIPTION:Did you know that by 2022 the Pennsylvania Turnpike will be cashless?  Come and join us to hear AND experience how the latest technological advancements will affect your future travels.\n\nKeynote Speaker: Mark Comptom\, CEO\, Pennsylvania Turnpike\n\nRegistration: 11:30 a.m.\n\nAnnual Meeting & Luncheon: 12:00 p.m. - 1:30 p.m.\n\nCost: $60 Member | $65 Non-Member.  \n\n\n\nTo find out more and register online\, visit our website!\n\nSponsorships Available!  Contact Anthony for more information.
X-ALT-DESC;FMTTYPE=text/html:<p style="text-align:left"><strong>Did you know that by 2022 the Pennsylvania Turnpike will be cashless?&nbsp\; Come and join us to hear AND experience how the latest technological advancements will affect your future travels.</strong></p>\n\n<p style="text-align:left"><strong>Keynote Speaker: </strong><em>Mark Comptom\, CEO\, Pennsylvania Turnpike</em></p>\n\n<p style="text-align:left"><strong>Registration: </strong><em>11:30 a.m.</em></p>\n\n<p style="text-align:left"><strong>Annual Meeting &amp\; Luncheon:</strong> <em>12:00 p.m. - 1:30 p.m.</em></p>\n\n<p style="text-align:left"><strong>Cost: </strong><em>$60 Member | $65 Non-Member</em><strong>. &nbsp\;<br />\n<br />\nTo find out more and register online\, <a href="www.ptma-mc.org/blog-events/events/">visit our website!</a></strong></p>\n\n<p style="text-align:left"><strong>Sponsorships Available!&nbsp\; <a href="mailto:info@ptma-mc.org?subject=Annual%20Meeting">Contact Anthony</a> for more information.</strong></p>\n
LOCATION:William Penn Inn 1017 Dekalb Pike\, Ambler
UID:e.2385.8785
SEQUENCE:3
DTSTAMP:20260422T141158Z
URL:https://business.chambergmc.org/events/details/technology-transportation-the-partnership-tma-s-annual-meeting-8785
END:VEVENT

END:VCALENDAR
