BEGIN:VCALENDAR
VERSION:2.0
PRODID:-//ChamberMaster//Event Calendar 2.0//EN
METHOD:PUBLISH
X-PUBLISHED-TTL:P3D
REFRESH-INTERVAL:P3D
CALSCALE:GREGORIAN
BEGIN:VEVENT
DTSTART:20200225T223000Z
DTEND:20200226T003000Z
X-MICROSOFT-CDO-ALLDAYEVENT:FALSE
SUMMARY:Teen Dating Violence Awareness Art Showcase
DESCRIPTION:Join us as we celebrate the creative works of Montgomery County students and raise awareness for teen dating violence.
X-ALT-DESC;FMTTYPE=text/html:Join us as we celebrate the creative works of Montgomery County students and raise awareness for teen dating violence.
LOCATION:Montgomery Township Recreation Center
UID:e.2385.10256
SEQUENCE:3
DTSTAMP:20260423T122249Z
URL:https://business.chambergmc.org/events/details/teen-dating-violence-awareness-art-showcase-10256
END:VEVENT

END:VCALENDAR
