BEGIN:VCALENDAR
VERSION:2.0
PRODID:-//ChamberMaster//Event Calendar 2.0//EN
METHOD:PUBLISH
X-PUBLISHED-TTL:P3D
REFRESH-INTERVAL:P3D
CALSCALE:GREGORIAN
BEGIN:VEVENT
DTSTART:20191022T140000Z
DTEND:20191022T160000Z
X-MICROSOFT-CDO-ALLDAYEVENT:FALSE
SUMMARY:Teenie Halloweenie
DESCRIPTION:Join Whitemarsh Township Parks and Recreation for the annual Teeniee Halloweenie on Tuesday\, October 22nd at the Cedar Grove Barn! Come in costume for a spooktacular good time including games\, crafts\, music\, treats\, and more! Join us for a kids concert at 10:30am during the event by Jump\, Jive\, & Jam. Cost is $5.00 per child\, pre-registration is available but not required. Cedar Grove Barn: 100 Cedar Grove Road\, Conshohocken\, PA. www.whitemarshparks.org
X-ALT-DESC;FMTTYPE=text/html:Join Whitemarsh Township Parks and Recreation for the annual Teeniee Halloweenie on Tuesday\, October 22nd at the Cedar Grove Barn! Come in costume for a spooktacular good time including games\, crafts\, music\, treats\, and more! Join us for a kids concert at 10:30am during the event by Jump\, Jive\, &amp\; Jam. Cost is $5.00 per child\, pre-registration is available but not required. Cedar Grove Barn: 100 Cedar Grove Road\, Conshohocken\, PA. www.whitemarshparks.org
LOCATION:Cedar Grove Barn 100 Cedar Grove Road Conshohocken\, PA
UID:e.2385.10068
SEQUENCE:3
DTSTAMP:20260423T170649Z
URL:https://business.chambergmc.org/events/details/teenie-halloweenie-10-22-2019-10068
END:VEVENT

END:VCALENDAR
