BEGIN:VCALENDAR
VERSION:2.0
PRODID:-//ChamberMaster//Event Calendar 2.0//EN
METHOD:PUBLISH
X-PUBLISHED-TTL:P3D
REFRESH-INTERVAL:P3D
CALSCALE:GREGORIAN
BEGIN:VEVENT
DTSTART:20180721T180000Z
DTEND:20180722T140000Z
X-MICROSOFT-CDO-ALLDAYEVENT:FALSE
SUMMARY:Temple Ambler EarthFest and the Ambler Arboretum Present: The Great American Campout
DESCRIPTION:Register online\n\n\n\nJoin us under the stars for a night of camping\, tours\, s'mores and more! The National Wildlife Federation's Great American Camp-out is a celebration of camping as a way to connect with nature and wildlife. The benefits from outdoor play for mind\, body and spirit are well-documented and help to create a lasting connection to nature and wildlife that promote happiness and good health. \n\n\n\nTemple University Ambler EarthFest and the Ambler Arboretum are excited to host this campout for new and experienced campers. Spend the night tent camping\, go on nature walks\, and enjoy s'mores by the campfire. We look forward to helping people connect with nature and exposing them to the wonder of Temple Ambler and the Arboretum. \n\nWhat's included?\n\nTent site: 15' x 15' (bring your own tent)\n\nBBQ Picnic Dinner (hamburgers\, veggie burgers\, hot dogs\, chips and water)\n\nOutdoor Pool swim hours available on Saturday\n\nA variety of guided walks including a Bird Walk and Garden Tour\n\nLearn about insects with the Philadelphia Insectarium and Butterfly Pavilion\n\nCampfire and s'mores\n\nTemple University Ambler will also hold BioBlitz 2018\, a 24-hour event promoting biodiversity and citizen science on June 23 and 24. Participants attending the Great American Campout are invited to participate in BioBlitz. Learn more about BioBlitz here.
X-ALT-DESC;FMTTYPE=text/html:<p><span style="font-size:14px"><strong><a href="https://noncredit.temple.edu/portal/events/reg/participantTypeSelection.do?method=load&amp\;entityId=19835313" style="box-sizing: border-box\; background-image: initial\; background-position: initial\; background-size: initial\; background-repeat: initial\; background-attachment: initial\; background-origin: initial\; background-clip: initial\; text-decoration-line: none\; color: rgb(0\, 123\, 194)\;" target="_blank">Register online</a></strong><br />\n<br />\nJoin us under the stars for a night of camping\, tours\, s&rsquo\;mores and more! The National Wildlife Federation&rsquo\;s Great American Camp-out is a celebration of camping as a way to connect with nature and wildlife. The benefits from outdoor play for mind\, body and spirit are well-documented and help to create a lasting connection to nature and wildlife that promote happiness and good health.&nbsp\;<br />\n<br />\nTemple University Ambler EarthFest and the Ambler Arboretum are&nbsp\;excited to host this&nbsp\;campout for new and experienced campers. Spend the night tent camping\, go on nature walks\, and enjoy s&rsquo\;mores by the campfire. We look forward to helping people connect with nature and exposing them to the wonder of Temple Ambler and the Arboretum.&nbsp\;</span></p>\n\n<p><span style="font-size:14px"><strong>What&rsquo\;s included?</strong></span></p>\n\n<p><span style="font-size:14px">Tent site: 15&rsquo\; x 15&rsquo\; (bring your own tent)</span></p>\n\n<p><span style="font-size:14px">BBQ Picnic Dinner (hamburgers\, veggie burgers\, hot dogs\, chips and water)</span></p>\n\n<p><span style="font-size:14px">Outdoor Pool swim hours available on Saturday</span></p>\n\n<p><span style="font-size:14px">A variety of guided walks including a Bird Walk and&nbsp\;Garden Tour</span></p>\n\n<p><span style="font-size:14px">Learn about insects with the Philadelphia Insectarium and Butterfly Pavilion</span></p>\n\n<p><span style="font-size:14px">Campfire and s&rsquo\;mores</span></p>\n\n<p><span style="font-size:14px">Temple University Ambler will also hold<strong>&nbsp\;<a href="https://ambler.temple.edu/about/earthfest/ambler-arboretum-bioblitz" style="box-sizing: border-box\; background-image: initial\; background-position: initial\; background-size: initial\; background-repeat: initial\; background-attachment: initial\; background-origin: initial\; background-clip: initial\; text-decoration-line: none\; color: rgb(0\, 123\, 194)\;" target="_blank">BioBlitz 2018</a></strong>\, a 24-hour event promoting biodiversity and citizen science on June 23 and 24. Participants attending the Great American Campout are invited to participate in BioBlitz.&nbsp\;<a href="https://ambler.temple.edu/about/earthfest/ambler-arboretum-bioblitz" style="box-sizing: border-box\; background-image: initial\; background-position: initial\; background-size: initial\; background-repeat: initial\; background-attachment: initial\; background-origin: initial\; background-clip: initial\; text-decoration-line: none\; color: rgb(0\, 123\, 194)\;" target="_blank"><strong>Learn more about BioBlitz here</strong>.</a></span></p>\n
LOCATION:Temple University Ambler\, 580 Meetinghouse Road\, Ambler\, PA 19002
UID:e.2385.7695
SEQUENCE:3
DTSTAMP:20260421T214741Z
URL:https://business.chambergmc.org/events/details/temple-ambler-earthfest-and-the-ambler-arboretum-present-the-great-american-campout-7695
END:VEVENT

END:VCALENDAR
