BEGIN:VCALENDAR
VERSION:2.0
PRODID:-//ChamberMaster//Event Calendar 2.0//EN
METHOD:PUBLISH
X-PUBLISHED-TTL:P3D
REFRESH-INTERVAL:P3D
CALSCALE:GREGORIAN
BEGIN:VEVENT
DTSTART:20180721T160000Z
DTEND:20180722T160000Z
X-MICROSOFT-CDO-ALLDAYEVENT:FALSE
SUMMARY:Temple Ambler EarthFest Presents: Ambler Arboretum BioBlitz 2018
DESCRIPTION:Register online\n\n\n\nWhat will you discover? At Temple Ambler\, there is more than students and faculty on campus! Visit campus at any time during 24 hours of discovery in the Ambler Arboretum's woodlands and meadows and help us find out what is living in your own backyard!\n\n\n\nJoin experts in helping to increase the biodiversity on campus. Participants will learn how to identify plants\, animals\, fungi and more while noting what they find. These finds are added to an ever-accumulating account of the diversity in the Ambler Arboretum.\n\n\n\nParticipants learn why diversity is important and can take their new-found skills home to their backyard or local park and start identifying what is there as well.\n\n\n\nBioBlitz 2018 will be held in conjunction with the Great American Campout. Spend an evening under the stars on campus and reconnect with the world around you!
X-ALT-DESC;FMTTYPE=text/html:<span style="font-family:arial\,helvetica\,sans-serif"><span style="font-size:14px"><strong><a href="https://ambler.temple.edu/about/earthfest/ambler-arboretum-bioblitz" style="box-sizing: border-box\; background-image: initial\; background-position: initial\; background-size: initial\; background-repeat: initial\; background-attachment: initial\; background-origin: initial\; background-clip: initial\; text-decoration-line: none\; color: rgb(0\, 123\, 194)\;" target="_blank">Register online</a></strong></span></span><br />\n<br />\n<span style="color:rgb(34\, 34\, 34)\; font-family:droid sans\,sans-serif\; font-size:14px">What will you discover? At Temple Ambler\, there is more than students and faculty on campus! Visit campus at any time during 24 hours of discovery in the Ambler Arboretum&rsquo\;s woodlands and meadows and help us find out what is living in your own backyard!<br />\n<br />\nJoin experts in helping to increase the biodiversity on campus. Participants will learn how to identify plants\, animals\, fungi and more while noting what they find. These finds are added to an ever-accumulating account of the diversity in the Ambler Arboretum.<br />\n<br />\nParticipants learn why diversity is important and can take their new-found skills home to their backyard or local park and start identifying what is there as well.<br />\n<br />\n<span style="font-family:arial\,helvetica\,sans-serif">BioBlitz 2018 will be held in conjunction with the&nbsp\;</span></span><span style="font-family:arial\,helvetica\,sans-serif"><span style="font-size:14px"><strong><a href="https://noncredit.temple.edu/portal/events/reg/participantTypeSelection.do?method=load&amp\;amp\;entityId=19835313" style="box-sizing: border-box\; background-image: initial\; background-position: initial\; background-size: initial\; background-repeat: initial\; background-attachment: initial\; background-origin: initial\; background-clip: initial\; text-decoration-line: none\; color: rgb(0\, 123\, 194)\;" target="_blank">Great American Campout</a></strong></span><span style="color:rgb(34\, 34\, 34)\; font-size:14px">. Spend an evening under the stars on campus and reconnect with the world around you!&nbsp\;</span></span>
LOCATION:Temple University Ambler\, 580 Meetinghouse Road\, Ambler\, PA 19002
UID:e.2385.7694
SEQUENCE:3
DTSTAMP:20260421T214628Z
URL:https://business.chambergmc.org/events/details/temple-ambler-earthfest-presents-ambler-arboretum-bioblitz-2018-7694
END:VEVENT

END:VCALENDAR
