BEGIN:VCALENDAR
VERSION:2.0
PRODID:-//ChamberMaster//Event Calendar 2.0//EN
METHOD:PUBLISH
X-PUBLISHED-TTL:P3D
REFRESH-INTERVAL:P3D
CALSCALE:GREGORIAN
BEGIN:VEVENT
DTSTART:20190713T180000Z
DTEND:20190714T140000Z
X-MICROSOFT-CDO-ALLDAYEVENT:FALSE
SUMMARY:Temple Ambler EarthFest Presents: The Great American Campout 2019
DESCRIPTION:Register Online\n\n\n\nBreak out your gear and join Temple University Ambler for the Great American Campout\, the National Wildlife Federation's celebration of camping as a way to connect with nature and wildlife. Spend an evening under the stars on campus and reconnect with the world around you! \n\n\n\nThe National Wildlife Federation's Great American Campout is a celebration of camping as a way to connect with nature and wildlife. The benefits from outdoor play for mind\, body and spirit are well-documented and help to create a lasting connection to nature and wildlife that help promote happiness and good health. Temple University Ambler is excited to host a campout for new and experienced campers. Spend the night tent camping\, go on nature walks\, and enjoy stargazing. We look forward to helping people connect with nature and exposing them to the wonder of Temple University Ambler and The Ambler Arboretum.\n\n\n\nThe Great American Campout will include: a Tent site\, 15' x 15' (bring your own tent)\; outdoor pool swimming\; a variety of guided walks and activities\, lightning bug evening walk\; stargazing with the Delaware Valley Amateur Astronomers\, Hiking 101 and Leave No Trace workshops with the Appalachian Mountain Club - Delaware Valley Chapter\, and more! Guests are invited to bring their own food to the Great American Campout. It's the perfect evening for a picnic dinner! Please Note: Cooking at the event is prohibited. Refrigeration is also unavailable. A light breakfast of fruit and juice will be provided the morning of July 14. Information: 267-468-8108 or duffyj@temple.edu.
X-ALT-DESC;FMTTYPE=text/html:<strong><a href="https://ambler.temple.edu/research/earthfest/great-american-campout-temple-ambler" style="box-sizing: border-box\; background-image: initial\; background-position: initial\; background-size: initial\; background-repeat: initial\; background-attachment: initial\; background-origin: initial\; background-clip: initial\; text-decoration-line: none\; color: rgb(0\, 123\, 194)\;" target="_blank">Register Online</a></strong><br />\n<br />\n<span style="color:rgb(34\, 34\, 34)\; font-family:droid sans\,sans-serif\; font-size:14px">Break out your gear and join Temple University Ambler for the Great American Campout\, the National Wildlife Federation&rsquo\;s celebration of camping as a way to connect with nature and wildlife. Spend an evening under the stars on campus and reconnect with the world around you!&nbsp\;<br />\n<br />\nThe National Wildlife Federation&rsquo\;s Great American Campout is a celebration of camping as a way to connect with nature and wildlife. The benefits from outdoor play for mind\, body and spirit are well-documented and help to create a lasting connection to nature and wildlife that help promote happiness and good health. Temple University Ambler is excited to host a campout for new and experienced campers. Spend the night tent camping\, go on nature walks\, and enjoy stargazing. We look forward to helping people connect with nature and exposing them to the wonder of Temple University Ambler and The Ambler Arboretum.<br />\n<br />\nThe Great American Campout will include: a Tent site\, 15&rsquo\; x 15&rsquo\; (bring your own tent)\; outdoor pool swimming\; a variety of guided walks and activities\, lightning bug evening walk\; stargazing with the Delaware Valley Amateur Astronomers\, Hiking 101 and Leave No Trace workshops with the Appalachian Mountain Club - Delaware Valley Chapter\,&nbsp\;and&nbsp\;more! Guests are invited to bring their own food to the Great American Campout. It&#39\;s the perfect evening for a picnic dinner!</span><strong>&nbsp\;Please Note:</strong><span style="color:rgb(34\, 34\, 34)\; font-family:droid sans\,sans-serif\; font-size:14px">&nbsp\;Cooking at the event is prohibited. Refrigeration is also unavailable.&nbsp\;A light breakfast of fruit and juice will be provided the morning of July 14. Information: 267-468-8108 or&nbsp\;</span><a href="mailto:duffyj@temple.edu" style="box-sizing: border-box\; background-image: initial\; background-position: initial\; background-size: initial\; background-repeat: initial\; background-attachment: initial\; background-origin: initial\; background-clip: initial\; text-decoration-line: none\; color: rgb(0\, 123\, 194)\; font-family: &quot\;Droid Sans&quot\;\, sans-serif\; font-size: 14px\;">duffyj@temple.edu</a><span style="color:rgb(34\, 34\, 34)\; font-family:droid sans\,sans-serif\; font-size:14px">.</span>
LOCATION:Temple University Ambler\, 580 Meetinghouse Road\, Ambler\, PA 19002
UID:e.2385.8819
SEQUENCE:3
DTSTAMP:20260422T141340Z
URL:https://business.chambergmc.org/events/details/temple-ambler-earthfest-presents-the-great-american-campout-2019-8819
END:VEVENT

END:VCALENDAR
