BEGIN:VCALENDAR
VERSION:2.0
PRODID:-//ChamberMaster//Event Calendar 2.0//EN
METHOD:PUBLISH
X-PUBLISHED-TTL:P3D
REFRESH-INTERVAL:P3D
CALSCALE:GREGORIAN
BEGIN:VEVENT
DTSTART:20190914T200000Z
DTEND:20190914T223000Z
X-MICROSOFT-CDO-ALLDAYEVENT:FALSE
SUMMARY:Temple Ambler in Bloom
DESCRIPTION:Register Online\n\nHow does our garden grow? With you of course! Join us in the gardens for our annual garden party to support the Ambler Arboretum of Temple University.\n\n\n\nExplore the gardens\, enjoy light refreshments and live music. Shop our live and silent auctions featuring unique plants\, stunning artwork and exceptional experiences.\n\n\n\nProceeds from this event go towards the maintenance of the gardens and their infrastructure including new signage and plantings.\n\n\n\nInformation: 267-468-8400 or kathleen.salisbury@temple.edu.
X-ALT-DESC;FMTTYPE=text/html:<strong><a href="https://ambler.temple.edu/arboretum/temple-ambler-bloom" style="box-sizing: border-box\; background-image: initial\; background-position: initial\; background-size: initial\; background-repeat: initial\; background-attachment: initial\; background-origin: initial\; background-clip: initial\; text-decoration-line: none\; color: rgb(0\, 123\, 194)\;" target="_blank">Register&nbsp\;Online</a></strong><br />\n<span style="color:rgb(34\, 34\, 34)\; font-family:droid sans\,sans-serif\; font-size:14px">How does our garden grow? With you of course! Join us in the gardens for our annual garden party to support the Ambler Arboretum of Temple University.<br />\n<br />\nExplore the gardens\, enjoy light refreshments and live music. Shop our live and silent auctions featuring unique plants\, stunning artwork and exceptional experiences.<br />\n<br />\nProceeds from this event go towards the maintenance of the gardens and their infrastructure including new signage and plantings.<br />\n<br />\nInformation: 267-468-8400 or&nbsp\;</span><a href="mailto:kathleen.salisbury@temple.edu" style="box-sizing: border-box\; background-image: initial\; background-position: initial\; background-size: initial\; background-repeat: initial\; background-attachment: initial\; background-origin: initial\; background-clip: initial\; text-decoration-line: none\; color: rgb(0\, 123\, 194)\; font-family: &quot\;Droid Sans&quot\;\, sans-serif\; font-size: 14px\;">kathleen.salisbury@temple.edu</a><span style="color:rgb(34\, 34\, 34)\; font-family:droid sans\,sans-serif\; font-size:14px">.</span>
LOCATION:Temple University Ambler\, 580 Meetinghouse Road\, Ambler\, PA 19002
UID:e.2385.10088
SEQUENCE:3
DTSTAMP:20260423T183223Z
URL:https://business.chambergmc.org/events/details/temple-ambler-in-bloom-09-14-2019-10088
END:VEVENT

END:VCALENDAR
