BEGIN:VCALENDAR
VERSION:2.0
PRODID:-//ChamberMaster//Event Calendar 2.0//EN
METHOD:PUBLISH
X-PUBLISHED-TTL:P3D
REFRESH-INTERVAL:P3D
CALSCALE:GREGORIAN
BEGIN:VEVENT
DTSTART:20190426T133000Z
DTEND:20190426T180000Z
X-MICROSOFT-CDO-ALLDAYEVENT:FALSE
SUMMARY:Temple University Ambler EarthFest 2019
DESCRIPTION:Thousands of visitors will mark Earth Day at Temple University Ambler celebrating the importance of protecting the environment and preserving their future. More than 85 exhibitors\, including the Center for Aquatic Science at Adventure Aquarium\, Franklin Institute\, FEMA\, Academy of Natural Sciences\, Elmwood Park Zoo and the Philadelphia Insectarium and Butterfly Pavilion are expected to take part in EarthFest 2019. School students of all ages and the general public are invited to attend. \n\n\n\nAre you a teacher? There's still time to register your class for EarthFest! School registration online. \n\n\n\nInterested in becoming an EarthFest 2019 exhibitor? Register online here.
X-ALT-DESC;FMTTYPE=text/html:<span style="color:rgb(34\, 34\, 34)\; font-family:droid sans\,sans-serif\; font-size:14px">Thousands of visitors will mark Earth Day at Temple University Ambler celebrating the importance of protecting the environment and preserving their future. More than 85 exhibitors\, including the Center for Aquatic Science at Adventure Aquarium\, Franklin Institute\, FEMA\, Academy of Natural Sciences\, Elmwood Park Zoo and the Philadelphia Insectarium and Butterfly Pavilion are expected to take part in EarthFest 2019. School students of all ages and the general public are invited to attend.&nbsp\;<br />\n<br />\nAre you a teacher? There&#39\;s still time to register your class for EarthFest!&nbsp\;</span><span style="font-size:14px"><span style="font-family:arial\,helvetica\,sans-serif"><u><strong><a href="https://ambler.temple.edu/register-earthfest-schools" style="box-sizing: border-box\; background-image: initial\; background-position: initial\; background-size: initial\; background-repeat: initial\; background-attachment: initial\; background-origin: initial\; background-clip: initial\; text-decoration-line: none\; color: rgb(0\, 123\, 194)\;" target="_blank">School registration online</a></strong></u><span style="color:rgb(34\, 34\, 34)">.&nbsp\;<br />\n<br />\nInterested in becoming an EarthFest 2019 exhibitor? <strong><a href="https://ambler.temple.edu/earthfest-registration-exhibitors" target="_blank">Register online here</a></strong>.</span></span></span>
LOCATION:Temple University Ambler\, 580 Meetinghouse Road\, Ambler\, PA 19002
UID:e.2385.6583
SEQUENCE:3
DTSTAMP:20260422T094823Z
URL:https://business.chambergmc.org/events/details/temple-university-ambler-earthfest-2018-04-20-2018-6583
END:VEVENT

END:VCALENDAR
