BEGIN:VCALENDAR
VERSION:2.0
PRODID:-//ChamberMaster//Event Calendar 2.0//EN
METHOD:PUBLISH
X-PUBLISHED-TTL:P3D
REFRESH-INTERVAL:P3D
CALSCALE:GREGORIAN
BEGIN:VEVENT
DTSTART:20190320T190000Z
DTEND:20190320T210000Z
X-MICROSOFT-CDO-ALLDAYEVENT:FALSE
SUMMARY:Temple University Ambler Small Business Development Center Grand Opening
DESCRIPTION:Register Online\n\n\n\nJoin us on National SBDC Day\, March 20 at 3 p.m.\, in the Ambler Campus Library Building to celebrate the opening of Temple's new Small Business Development Center at the Ambler Campus!\n\n\n\nThis event will include an official ribbon cutting\, cupcakes\, and a champagne toast to mark the official opening of the Temple Ambler SBDC!\n\n\n\nSpeakers will include Dennis Miller\, Executive Principal of Wheel Dog Industries\, a public policy consulting firm specializing in veteran and military affairs\; Dr. Vicki Lewis McGarvey\, Vice Provost for University College and Interim Director of Temple University Ambler\; and the Montgomery County Commissioners\, Valerie A. Arkoosh\, Kenneth E. Lawrence Jr.\, and  Joseph C. Gale. This event is free and open to the public.
X-ALT-DESC;FMTTYPE=text/html:<strong><span style="color:#222222"><span style="font-family:arial\,sans-serif"><span style="font-size:10.0pt"><a href="https://www.eventbrite.com/e/you-are-invited-sbdc-ambler-campus-ribbon-cutting-tickets-57102075846?aff=ebapi" target="_blank">Register Online</a></span></span></span></strong><br />\n<br />\n<span style="color:#222222"><span style="font-family:arial\,sans-serif"><span style="font-size:10.0pt">Join us on National SBDC Day\, March 20 at 3 p.m.\, in the Ambler Campus Library Building to celebrate the opening of Temple&rsquo\;s new <a href="https://ambler.temple.edu/about/news/small-business-development-center-opening-temple-ambler" target="_blank">Small Business Development Center</a> at the Ambler Campus!<br />\n<br />\nThis event will include an official ribbon cutting\, cupcakes\, and a champagne toast to mark the official opening of the <a href="https://ambler.temple.edu/about/news/small-business-development-center-opening-temple-ambler" target="_blank">Temple Ambler SBDC</a>!<br />\n<br />\nSpeakers will include Dennis Miller\, Executive Principal of Wheel Dog Industries\, a public policy consulting firm specializing in veteran and military affairs\; Dr. Vicki Lewis McGarvey\, Vice Provost for University College and Interim Director of Temple University Ambler\; and the Montgomery County Commissioners\, Valerie A. Arkoosh\, Kenneth E. Lawrence Jr.\, and &nbsp\;Joseph C. Gale. This event is free and open to the public.&nbsp\;</span></span></span>
LOCATION:Temple University Ambler\, 580 Meetinghouse Road\, Ambler\, PA 19002
UID:e.2385.8668
SEQUENCE:3
DTSTAMP:20260424T082121Z
URL:https://business.chambergmc.org/events/details/temple-university-ambler-small-business-development-center-grand-opening-8668
END:VEVENT

END:VCALENDAR
