BEGIN:VCALENDAR
VERSION:2.0
PRODID:-//ChamberMaster//Event Calendar 2.0//EN
METHOD:PUBLISH
X-PUBLISHED-TTL:P3D
REFRESH-INTERVAL:P3D
CALSCALE:GREGORIAN
BEGIN:VEVENT
DTSTART:20181122T190000Z
DTEND:20181122T230000Z
X-MICROSOFT-CDO-ALLDAYEVENT:FALSE
SUMMARY:Thanksgiving Dinner at Cardinal Hollow WInery
DESCRIPTION:Come join the Cardinal Hollow Winery family for an afternoon of Thanksgiving Dinner buffet and football games.  The full bar will be available with Wine\, Beer and Liquor.  We will have Turkey\, Ham\, Kiebasa and all the normal sides.  Reservations are required.  $29 for Adults\, $15 for kids 12 and under.
X-ALT-DESC;FMTTYPE=text/html:Come join the Cardinal Hollow Winery family for an afternoon of Thanksgiving Dinner buffet and football games.&nbsp\; The full bar will be available with Wine\, Beer and Liquor.&nbsp\; We will have Turkey\, Ham\, Kiebasa and all the normal sides.&nbsp\; Reservations are required.&nbsp\; $29 for Adults\, $15 for kids 12 and under.
LOCATION:1830 West Point Pike West Point PA 19486
UID:e.2385.8092
SEQUENCE:3
DTSTAMP:20260422T040936Z
URL:https://business.chambergmc.org/events/details/thanksgiving-dinner-at-cardinal-hollow-winery-8092
END:VEVENT

END:VCALENDAR
