BEGIN:VCALENDAR
VERSION:2.0
PRODID:-//ChamberMaster//Event Calendar 2.0//EN
METHOD:PUBLISH
X-PUBLISHED-TTL:P3D
REFRESH-INTERVAL:P3D
CALSCALE:GREGORIAN
BEGIN:VEVENT
DTSTART:20180301T180000Z
DTEND:20180301T183000Z
X-MICROSOFT-CDO-ALLDAYEVENT:FALSE
SUMMARY:The Art of Personal Savings Webinar
DESCRIPTION:It's America Saves Week- Here's what you need to know about personal savings and staying on track for your retirement! Join us on March 1st for this 30 minute webinar at no cost to you! Register today at events@tycorbenefit.com to reserve your spot.
X-ALT-DESC;FMTTYPE=text/html:It&#39\;s America Saves Week- Here&#39\;s what you need to know about personal savings and staying on track for your retirement! Join us on March 1st for this 30 minute webinar at no cost to you! Register today at events@tycorbenefit.com to reserve your spot.
LOCATION:Webinar
UID:e.2385.3051
SEQUENCE:3
DTSTAMP:20260421T175013Z
URL:https://business.chambergmc.org/events/details/the-art-of-personal-savings-webinar-03-01-2018-3051
END:VEVENT

END:VCALENDAR
