BEGIN:VCALENDAR
VERSION:2.0
PRODID:-//ChamberMaster//Event Calendar 2.0//EN
METHOD:PUBLISH
X-PUBLISHED-TTL:P3D
REFRESH-INTERVAL:P3D
CALSCALE:GREGORIAN
BEGIN:VEVENT
DTSTART:20160313T173000Z
DTEND:20160320T210000Z
X-MICROSOFT-CDO-ALLDAYEVENT:FALSE
SUMMARY:The Foreigner
DESCRIPTION:MCT (Methacton Community Theater) presents the comedy\, The Foreigner by Larry Shue\, as their annual Dinner Theater offering. Dinner and the show are on March 13 & 20 at 1:30 PM and March 18 & 19 at 6:30 PM at The Empress Room 1489 DeKalb Pike\, Blue Bell\, PA 19422. Tickets are $48 and include the show\, appetizers\, dinner\, dessert and coffee. Alcohol is BYOB. Tickets can be purchased online at methactoncommunitytheater.org or reserved by calling 610-489-6449.
X-ALT-DESC;FMTTYPE=text/html:MCT (Methacton Community Theater) presents the comedy\, The Foreigner by Larry Shue\, as their annual Dinner Theater offering. Dinner and the show are on March 13 &amp\; 20 at 1:30 PM and March 18 &amp\; 19 at 6:30 PM at The Empress Room 1489 DeKalb Pike\, Blue Bell\, PA 19422. Tickets are $48 and include the show\, appetizers\, dinner\, dessert and coffee. Alcohol is BYOB. Tickets can be purchased online at methactoncommunitytheater.org or reserved by calling 610-489-6449.
LOCATION:The Empress Room 1489 DeKalb Pike\, Blue Bell\, PA 19422
UID:e.2385.1511
SEQUENCE:3
DTSTAMP:20260421T121232Z
URL:https://business.chambergmc.org/events/details/the-foreigner-03-13-2016-1511
END:VEVENT

END:VCALENDAR
