BEGIN:VCALENDAR
VERSION:2.0
PRODID:-//ChamberMaster//Event Calendar 2.0//EN
METHOD:PUBLISH
X-PUBLISHED-TTL:P3D
REFRESH-INTERVAL:P3D
CALSCALE:GREGORIAN
BEGIN:VEVENT
DTSTART:20190123T233000Z
DTEND:20190124T010000Z
X-MICROSOFT-CDO-ALLDAYEVENT:FALSE
SUMMARY:The State of Criminal Justice Reform in Pennsylvania and Montgomery County
DESCRIPTION:Please join Nick Pressley\, the ACLU-PA's director of the Campaign for Smart Justice\, for a discussion about how we can work together to create a justice system that is fair and accountable. The State of Criminal Justice Reform in Pennsylvania and Montgomery County Wednesday\, January 23\, 6:30-8 p.m. This event is free and open to the public. Light refreshments will be served following the talk.
X-ALT-DESC;FMTTYPE=text/html:Please join Nick Pressley\, the ACLU-PA&rsquo\;s director of the Campaign for Smart Justice\, for a discussion about how we can work together to create a justice system that is fair and accountable. The State of Criminal Justice Reform in Pennsylvania and Montgomery County Wednesday\, January 23\, 6:30-8 p.m. This event is free and open to the public. Light refreshments will be served following the talk.
LOCATION:Ludington Library's Auditorium 5 S. Bryn Mawr Ave. Bryn Mawr\, PA 19010
UID:e.2385.8166
SEQUENCE:3
DTSTAMP:20260422T071119Z
URL:https://business.chambergmc.org/events/details/the-state-of-criminal-justice-reform-in-pennsylvania-and-montgomery-county-8166
END:VEVENT

END:VCALENDAR
