BEGIN:VCALENDAR
VERSION:2.0
PRODID:-//ChamberMaster//Event Calendar 2.0//EN
METHOD:PUBLISH
X-PUBLISHED-TTL:P3D
REFRESH-INTERVAL:P3D
CALSCALE:GREGORIAN
BEGIN:VEVENT
DTSTART:20201004T000000Z
DTEND:20201004T030000Z
X-MICROSOFT-CDO-ALLDAYEVENT:FALSE
SUMMARY:The Supernaturals Live on the Patio
DESCRIPTION:The Greene Turtle has live music every Friday and Saturday through October\, this is an outdoor event following all social distancing guidelines\n\n\n\nThis Saturday "The Supernaturals" will be performing live under the stars\, come for dinner stay for the music!!\n\nReservations are Recommended \n\nwww.opentable.com
X-ALT-DESC;FMTTYPE=text/html:The Greene Turtle has live music every Friday and Saturday through October\, this is an outdoor event following all social distancing guidelines<br />\n<br />\nThis Saturday &quot\;The Supernaturals&quot\; will be performing live under the stars\, come for dinner stay for the music!!<br />\nReservations are Recommended&nbsp\;<br />\nwww.opentable.com&nbsp\;
LOCATION:The Greene Turtle Restaurant and Sports Bar 1100 Bethlehem Pike North Wales PA 19454
UID:e.2385.10765
SEQUENCE:3
DTSTAMP:20260423T014319Z
URL:https://business.chambergmc.org/events/details/the-supernaturals-live-on-the-patio-10765
END:VEVENT

END:VCALENDAR
