BEGIN:VCALENDAR
VERSION:2.0
PRODID:-//ChamberMaster//Event Calendar 2.0//EN
METHOD:PUBLISH
X-PUBLISHED-TTL:P3D
REFRESH-INTERVAL:P3D
CALSCALE:GREGORIAN
BEGIN:VEVENT
DTSTART:20181202T010000Z
DTEND:20181202T023000Z
X-MICROSOFT-CDO-ALLDAYEVENT:FALSE
SUMMARY:The Voices of Gwynedd Carol Nights
DESCRIPTION:The Voices of Gwynedd will lead you on a journey to find the Christmas Star. THE STAR is a charming Christmas movie\, where a small\, but brave donkey and his animal pals play a big role in the first Christmas. The animals follow THE STAR and become accidental heroes in the greatest story ever told. The star symbolizes the holy star that appeared quite miraculously in the eastern sky the day Jesus Christ was born. You will enjoy some traditional carols such as the "We Three Kings" and "Silent Night" but also the new sensational hit by Mariah Carey called "The Star" which urges us to "follow your heart\, follow the light\, follow that star."
X-ALT-DESC;FMTTYPE=text/html:The Voices of Gwynedd will lead you on a journey to find the Christmas Star. THE STAR is a charming Christmas movie\, where a small\, but brave donkey and his animal pals play a big role in the first Christmas. The animals follow THE STAR and become accidental heroes in the greatest story ever told. The star symbolizes the holy star that appeared quite miraculously in the eastern sky the day Jesus Christ was born. You will enjoy some traditional carols such as the &ldquo\;We Three Kings&rdquo\; and &ldquo\;Silent Night&rdquo\; but also the new sensational hit by Mariah Carey called &ldquo\;The Star&rdquo\; which urges us to &ldquo\;follow your heart\, follow the light\, follow that star.&rdquo\;
LOCATION:Julia Ball Auditorium 1325 Sumneytown Pike\, Gwynedd Valley PA.\, 19437
UID:e.2385.8100
SEQUENCE:3
DTSTAMP:20260422T041259Z
URL:https://business.chambergmc.org/events/details/the-voices-of-gwynedd-carol-nights-12-01-2018-8100
END:VEVENT

END:VCALENDAR
