BEGIN:VCALENDAR
VERSION:2.0
PRODID:-//ChamberMaster//Event Calendar 2.0//EN
METHOD:PUBLISH
X-PUBLISHED-TTL:P3D
REFRESH-INTERVAL:P3D
CALSCALE:GREGORIAN
BEGIN:VEVENT
DTSTART:20250327T190000Z
DTEND:20250327T223000Z
X-MICROSOFT-CDO-ALLDAYEVENT:FALSE
SUMMARY:Thrive On Thursdays Open Networking and Happy Hour
DESCRIPTION:No matter what your week or month has looked like\, you can come join us in a relaxed space to work\, connect\, chill and socialize on the last Thursday of every month in 2025!  Feel free to get some work done\, network with others or completely decompress in our space!  Each month will hold a different theme/context but will always be welcoming!
X-ALT-DESC;FMTTYPE=text/html:No matter what your week or month has looked like\, you can come join us in a relaxed space to work\, connect\, chill and socialize on the last Thursday of every month in 2025!&nbsp\; Feel free to get some work done\, network with others or completely decompress in our space!&nbsp\; Each month will hold a different theme/context but will always be welcoming!
LOCATION:Beacon Bridge Wealth Partners Offices 1600 N Bethlehem Pike\, Suite N-200 Lower Gwynedd\, PA 19002 At the corner of Bethlehem Pike and Welsh Road\; Building closest to Welsh Road!
UID:e.2385.12110
SEQUENCE:3
DTSTAMP:20260420T083327Z
URL:https://business.chambergmc.org/events/details/thrive-on-thursdays-open-networking-and-happy-hour-03-27-2025-12110
END:VEVENT

END:VCALENDAR
