BEGIN:VCALENDAR
VERSION:2.0
PRODID:-//ChamberMaster//Event Calendar 2.0//EN
METHOD:PUBLISH
X-PUBLISHED-TTL:P3D
REFRESH-INTERVAL:P3D
CALSCALE:GREGORIAN
BEGIN:VEVENT
DTSTART:20160331T183000Z
DTEND:20160331T193000Z
X-MICROSOFT-CDO-ALLDAYEVENT:FALSE
SUMMARY:Tips for Better Vascular Health
DESCRIPTION:Vascular disease can include any condition that affects your circulatory system. Join Eric V. Olivero\, MD\, of Grand View Surgical Associates\, as he discusses the signs and symptoms\, risk factors and treatment options for carotid and aneurysm disease\, varicose veins and more.
X-ALT-DESC;FMTTYPE=text/html:Vascular disease can include any condition that affects your circulatory system. Join Eric V. Olivero\, MD\, of Grand View Surgical Associates\, as he discusses the signs and symptoms\, risk factors and treatment options for carotid and aneurysm disease\, varicose veins and more.
LOCATION:Sellersville Outpatient Center 915 Lawn Avenue Sellersville\, PA 18960
UID:e.2385.1521
SEQUENCE:3
DTSTAMP:20260421T111848Z
URL:https://business.chambergmc.org/events/details/tips-for-better-vascular-health-03-31-2016-1521
END:VEVENT

END:VCALENDAR
