BEGIN:VCALENDAR
VERSION:2.0
PRODID:-//ChamberMaster//Event Calendar 2.0//EN
METHOD:PUBLISH
X-PUBLISHED-TTL:P3D
REFRESH-INTERVAL:P3D
CALSCALE:GREGORIAN
BEGIN:VEVENT
DTSTART:20180915T170000Z
DTEND:20180915T190000Z
X-MICROSOFT-CDO-ALLDAYEVENT:FALSE
SUMMARY:Touch-A-Truck
DESCRIPTION:Join us for Whitemarsh Township Parks and Recreation's annual Touch-A-Truck event! Here's your chance to give your child the opportunity to get a close-up & hands-on view of all sorts of trucks\, construction vehicles\, and other large equipment! This FREE event is fun for the whole family and will take place at the Miles Park Lower Parking Lot from 1:00-3:00pm.
X-ALT-DESC;FMTTYPE=text/html:Join us for Whitemarsh Township Parks and Recreation&#39\;s annual Touch-A-Truck event! Here&#39\;s your chance to give your child the opportunity to get a close-up &amp\; hands-on view of all sorts of trucks\, construction vehicles\, and other large equipment! This FREE event is fun for the whole family and will take place at the Miles Park Lower Parking Lot from 1:00-3:00pm.
LOCATION:Miles Park - Lower Parking Lot
UID:e.2385.7996
SEQUENCE:3
DTSTAMP:20260422T002756Z
URL:https://business.chambergmc.org/events/details/touch-a-truck-7996
END:VEVENT

END:VCALENDAR
