BEGIN:VCALENDAR
VERSION:2.0
PRODID:-//ChamberMaster//Event Calendar 2.0//EN
METHOD:PUBLISH
X-PUBLISHED-TTL:P3D
REFRESH-INTERVAL:P3D
CALSCALE:GREGORIAN
BEGIN:VEVENT
DTSTART:20190928T143000Z
DTEND:20190928T180000Z
X-MICROSOFT-CDO-ALLDAYEVENT:FALSE
SUMMARY:Tough Mudder Bootcamp Grand Opening
DESCRIPTION:Tough Mudder Bootcamp Blue Bell is hosting a public grand opening celebration that will feature free signature bootcamp classes\, a ribbon-cutting\, food\, games\, prizes\, discounted membership prices\, swag bags and more. To show gratitude for its welcome into Blue Bell\, Tough Mudder Bootcamp Blue Bell will donate $5 for every person in attendance to the Centre Square Fire Co. All attendees will also have their names entered to win a free six-month membership and other prizes from vendor partners\, to be announced at the end of the day. Register for a space at one of the free classes via EventBrite: http://bit.ly/2lDAx3X.
X-ALT-DESC;FMTTYPE=text/html:Tough Mudder Bootcamp Blue Bell is hosting a public grand opening celebration that will feature free signature bootcamp classes\, a ribbon-cutting\, food\, games\, prizes\, discounted membership prices\, swag bags and more. To show gratitude for its welcome into Blue Bell\, Tough Mudder Bootcamp Blue Bell will donate $5 for every person in attendance to the Centre Square Fire Co. All attendees will also have their names entered to win a free six-month membership and other prizes from vendor partners\, to be announced at the end of the day. Register for a space at one of the free classes via EventBrite: http://bit.ly/2lDAx3X.
LOCATION:Tough Mudder Bootcamp Blue Bell 950 Dekalb Pike Suite 600 Blue Bell\, PA 19422
UID:e.2385.10111
SEQUENCE:3
DTSTAMP:20260423T182158Z
URL:https://business.chambergmc.org/events/details/tough-mudder-bootcamp-grand-opening-10111
END:VEVENT

END:VCALENDAR
