BEGIN:VCALENDAR
VERSION:2.0
PRODID:-//ChamberMaster//Event Calendar 2.0//EN
METHOD:PUBLISH
X-PUBLISHED-TTL:P3D
REFRESH-INTERVAL:P3D
CALSCALE:GREGORIAN
BEGIN:VEVENT
DTSTART:20180225T180000Z
DTEND:20180225T203000Z
X-MICROSOFT-CDO-ALLDAYEVENT:FALSE
SUMMARY:Transform "Stuck" Emotions the Natural Way
DESCRIPTION:Just as there is a calm pool at the bottom of a waterfall\, there is a calm place within us all where healing occurs.  A place deep in the center of our being that is unaffected by the rushing waters above.\n\n \n\nYou are invited to let go of what no longer serves you   and grow beyond it as we move through four areas where we are often blocked: \n\n \n\n Overwhelm .. Self-Esteem .. Clarity/Vision ..  EMPOWERMENT\n\n \n\nThis experiential\, integrated workshop includes applied essential oils with meditation and mindfulness strategies.  You will be setting intentions\, experiencing guided meditations\, journaling about your experiences and sharing your observations and insights when and if you feel called to do so.  Wear loose and comfortable clothing\; expect to be directed to apply oils directly on your skin during the workshop.\n\n \n\nExtras included in the workshop: \n\n	The essential oil protocol directions* + 2mL roller bottles of each of the 10 oils used in the workshop\n	An additional 5 blends that you will make yourself + the recipes & directions for use*\n	Optional:  Three follow-on individual sessions to support your journey... Because unexpected things can come up after workshops like this one\, we want you to feel held\, cared for and supported in the weeks following the event. You will have 2 months to use your sessions.  \n\n \n\nSign up TODAY to reserve your space!\n\nThis is your life   BE PRESENT FOR IT!\n\n \n\nThis workshop is led by Beth Mathews\, RN BSN HNC-BC from the Center of Integrated Health and Linda D. Wiesinger\, BA Psych\, CiPP\, CCC from Why Not Sprout?!\n\n\n\n	Our space is small and intimate\; Class is limited to 15 humans\n	Workshop only - $65 (includes all the oils you'll need\, the protocol\, the blends & recipes with directions)\n	Workshop Package - $95 (includes all the above\, PLUS three 30-minute individual sessions with Beth or Linda  an added $100 value for just $30)\n\n\n \n\nPrefer to use cash instead of a credit card online?  Please contact Linda directly to make your reservation!  Linda@whynotsprout.com or 610.222.0700\n\n \n\n*Desiree Mangandog L.A.c\, M.S.T.O.M\, the creator and author of the protocol\, recipes\, and the book "I Am Fabulous" that we will be referencing for the essential oils part of the workshop\, has graciously granted us permission to copy and distribute this information
X-ALT-DESC;FMTTYPE=text/html:<span style="color:#7030A0"><span style="font-family:comic sans ms"><span style="font-size:14.0pt">Just as there is a calm pool at the bottom of a waterfall\, there is a calm place within us all where healing occurs.&nbsp\; A place deep in the center of our being that is unaffected by the rushing waters above.</span></span></span><br />\n&nbsp\;<br />\n<span style="color:#00B050"><span style="font-family:comic sans ms"><span style="font-size:14.0pt">You are invited to let go of what no longer serves you &ndash\; and grow beyond it as we move through four areas where we are often blocked:&nbsp\;</span></span></span><br />\n&nbsp\;<br />\n&nbsp\;<span style="color:#ED7D31"><span style="font-family:comic sans ms"><span style="font-size:19.0pt">Overwhelm&nbsp\;..&nbsp\;</span></span></span><span style="color:#7030A0"><span style="font-family:comic sans ms"><span style="font-size:19.0pt">Self-Esteem</span></span></span><span style="color:#00B050"><span style="font-family:comic sans ms"><span style="font-size:19.0pt">&nbsp\;.. Clarity/Vision ..&nbsp\;&nbsp\;</span></span></span><span style="color:red"><span style="font-family:comic sans ms"><span style="font-size:19.0pt">EMPOWERMENT</span></span></span><br />\n&nbsp\;<br />\n<span style="font-family:comic sans ms"><span style="color:#4B0082"><span style="font-size:18px">This experiential\, integrated workshop includes applied essential oils with meditation and mindfulness strategies.&nbsp\; You will be setting intentions\, experiencing guided meditations\, journaling about your experiences and sharing your observations and insights when and if you feel called to do so.</span></span>&nbsp\;&nbsp\;</span><span style="color:#7030A0"><span style="font-family:comic sans ms"><span style="font-size:13.0pt">Wear loose and comfortable clothing\; expect to be directed to apply oils directly on your skin during the workshop.</span></span></span><br />\n&nbsp\;<br />\n<strong><span style="color:#7030A0"><span style="font-family:comic sans ms"><span style="font-size:13.0pt">Extras included in the workshop: </span></span></span></strong>\n<ul>\n	<li><span style="color:#7030A0"><span style="font-family:comic sans ms"><span style="font-size:12.0pt">The essential oil protocol directions* + 2mL roller bottles of each of the 10 oils used in the workshop</span></span></span></li>\n	<li><span style="color:#7030A0"><span style="font-family:comic sans ms"><span style="font-size:12.0pt">An additional 5 blends that you will make yourself + the recipes &amp\; directions for use*</span></span></span></li>\n	<li><strong><span style="color:#7030A0"><span style="font-family:comic sans ms"><span style="font-size:12.0pt">Optional:&nbsp\; Three follow-on individual sessions to support your journey</span></span></span></strong><span style="color:#00B050"><span style="font-family:verdana\,sans-serif"><span style="font-size:10.5pt">... Because unexpected things can come up after workshops like this one\, we want you to feel held\, cared for and supported in the weeks following the event. You will have 2 months to use your sessions.&nbsp\;&nbsp\;</span></span></span></li>\n</ul>\n&nbsp\;<br />\n<strong><span style="color:#00B050"><span style="font-family:comic sans ms"><span style="font-size:14.0pt">Sign up <a href="https://clients.mindbodyonline.com/classic/ws?studioid=832966&amp\;stype=-7&amp\;sTG=31&amp\;sVT=27&amp\;sView=day&amp\;sLoc=1">TODAY</a> to reserve your space!</span></span></span></strong><br />\n<strong><span style="color:#7030A0"><span style="font-family:comic sans ms"><span style="font-size:14.0pt">This is your life &ndash\; BE PRESENT FOR IT!</span></span></span></strong><br />\n&nbsp\;<br />\n<strong><span style="color:#7030A0"><span style="font-family:comic sans ms"><span style="font-size:8.0pt">This workshop is led by Beth Mathews\, RN BSN HNC-BC from the <a href="http://www.integratedhealthofharleysville.com/meet-our-providers/beth-mathews-rn/#main">Center of Integrated Health</a> and Linda D. Wiesinger\, BA Psych\, CiPP\, CCC from <a href="https://whynotsprout.com/my-story/">Why Not Sprout?!</a></span></span></span></strong>\n\n<div style="margin-left:0in\; margin-right:31.5pt">\n<ul>\n	<li style="text-align:justify"><span style="font-family:comic sans ms">Our space is small and intimate\; Class is limited to 15 humans</span></li>\n	<li style="text-align:justify"><span style="font-family:comic sans ms">Workshop only - $65 (includes all the oils you&rsquo\;ll need\, the protocol\, the blends &amp\; recipes with directions)</span></li>\n	<li style="text-align:justify"><span style="font-family:comic sans ms">Workshop Package - $95 (includes all the above\,<strong> PLUS</strong> <strong>three</strong> 30-minute individual sessions with Beth or Linda&hellip\; an added $100 value for just $30)</span></li>\n</ul>\n</div>\n&nbsp\;<br />\n<span style="color:#7030A0"><span style="font-family:comic sans ms"><span style="font-size:12.0pt">Prefer to use cash instead of a credit card online?&nbsp\; Please contact Linda directly to make your reservation!&nbsp\; <a href="mailto:Linda@whynotsprout.com">Linda@whynotsprout.com</a> or 610.222.0700</span></span></span><br />\n&nbsp\;<br />\n*Desiree Mangandog L.A.c\, M.S.T.O.M\, the creator and author of the protocol\, recipes\, and the book &ldquo\;I Am Fabulous&rdquo\; that we will be referencing for the essential oils part of the workshop\, has graciously granted us permission to copy and distribute this information
LOCATION:Why Not Sprout?! 4039 Skippack Pike Skippack\, PA 19474 610.222.0700
UID:e.2385.3039
SEQUENCE:3
DTSTAMP:20260421T150212Z
URL:https://business.chambergmc.org/events/details/transform-stuck-emotions-the-natural-way-02-25-2018-3039
END:VEVENT

END:VCALENDAR
