BEGIN:VCALENDAR
VERSION:2.0
PRODID:-//ChamberMaster//Event Calendar 2.0//EN
METHOD:PUBLISH
X-PUBLISHED-TTL:P3D
REFRESH-INTERVAL:P3D
CALSCALE:GREGORIAN
BEGIN:VEVENT
DTSTART:20180713T220000Z
DTEND:20180714T010000Z
X-MICROSOFT-CDO-ALLDAYEVENT:FALSE
SUMMARY:Trivia Night & Food Truck Friday
DESCRIPTION:Join us for Trivia Night in the winery from 7:30 - 9pm. Bring your smartest friends with you to compete for some awesome prizes! This has become one of our biggest events so get to the winery early to grab a spot and some delicious wine and food. The Flying Deutschman food truck will be on site from 6-9pm serving up dinner and snacks.
X-ALT-DESC;FMTTYPE=text/html:Join us for Trivia Night in the winery from 7:30 - 9pm. Bring your smartest friends with you to compete for some awesome prizes! This has become one of our biggest events so get to the winery early to grab a spot and some delicious wine and food. The Flying Deutschman food truck will be on site from 6-9pm serving up dinner and snacks.
LOCATION:Stone and Key Cellars 435 Doylestown Road Montgomeryville\, PA 18936
UID:e.2385.7707
SEQUENCE:3
DTSTAMP:20260421T214644Z
URL:https://business.chambergmc.org/events/details/trivia-night-food-truck-friday-07-13-2018-7707
END:VEVENT

END:VCALENDAR
