BEGIN:VCALENDAR
VERSION:2.0
PRODID:-//ChamberMaster//Event Calendar 2.0//EN
METHOD:PUBLISH
X-PUBLISHED-TTL:P3D
REFRESH-INTERVAL:P3D
CALSCALE:GREGORIAN
BEGIN:VEVENT
DTSTART:20180727T220000Z
DTEND:20180728T010000Z
X-MICROSOFT-CDO-ALLDAYEVENT:FALSE
SUMMARY:Trivia Night & Food Truck Friday
DESCRIPTION:Join us for Trivia Night from 7:30 - 9 pm. Bring your smartest friends and compete for awesome prizes. This has become one of our biggest events so be sure to get to the winery early to grab a seat\, a drink\, and some food. Chef Johnny Bravo's Surf & Turf food truck will be on site from 6-9pm serving up amazing crabcakes and more!
X-ALT-DESC;FMTTYPE=text/html:Join us for Trivia Night from 7:30 - 9 pm. Bring your smartest friends and compete for awesome prizes. This has become one of our biggest events so be sure to get to the winery early to grab a seat\, a drink\, and some food. Chef Johnny Bravo&rsquo\;s Surf &amp\; Turf food truck will be on site from 6-9pm serving up amazing crabcakes and more!
LOCATION:Stone and Key Cellars 435 Doylestown Road Montgomeryville\, PA 18936
UID:e.2385.7710
SEQUENCE:3
DTSTAMP:20260421T214628Z
URL:https://business.chambergmc.org/events/details/trivia-night-food-truck-friday-07-27-2018-7710
END:VEVENT

END:VCALENDAR
