BEGIN:VCALENDAR
VERSION:2.0
PRODID:-//ChamberMaster//Event Calendar 2.0//EN
METHOD:PUBLISH
X-PUBLISHED-TTL:P3D
REFRESH-INTERVAL:P3D
CALSCALE:GREGORIAN
BEGIN:VEVENT
DTSTART:20180810T220000Z
DTEND:20180811T010000Z
X-MICROSOFT-CDO-ALLDAYEVENT:FALSE
SUMMARY:Trivia Night & Food Truck Friday
DESCRIPTION:Join us for Trivia Night from 7:30 - 9pm. Bring your smartest friends and test your knowledge to win awesome prizes. This has become on of our biggest events\, so be sure to come early to grab a spot\, a drink and some amazing food. If you ever wanted to try to eat something other than ice cream out of a cone\, Cone Appetit Food Truck will be on site from 6-9pm serving up creative\, portable food in a cone!
X-ALT-DESC;FMTTYPE=text/html:Join us for Trivia Night from 7:30 - 9pm. Bring your smartest friends and test your knowledge to win awesome prizes. This has become on of our biggest events\, so be sure to come early to grab a spot\, a drink and some amazing food. If you ever wanted to try to eat something other than ice cream out of a cone\, Cone Appetit Food Truck will be on site from 6-9pm serving up creative\, portable food in a cone!
LOCATION:Stone and Key Cellars 435 Doylestown Road Montgomeryville\, PA 18936
UID:e.2385.7712
SEQUENCE:3
DTSTAMP:20260421T231216Z
URL:https://business.chambergmc.org/events/details/trivia-night-food-truck-friday-08-10-2018-7712
END:VEVENT

END:VCALENDAR
