BEGIN:VCALENDAR
VERSION:2.0
PRODID:-//ChamberMaster//Event Calendar 2.0//EN
METHOD:PUBLISH
X-PUBLISHED-TTL:P3D
REFRESH-INTERVAL:P3D
CALSCALE:GREGORIAN
BEGIN:VEVENT
DTSTART:20180622T220000Z
DTEND:20180623T010000Z
X-MICROSOFT-CDO-ALLDAYEVENT:FALSE
SUMMARY:Trivia Night & Food Truck Friday
DESCRIPTION:Join us for Trivia Night\, Friday\, June 22 from 7:30-9pm. Bring your smartest friends and compete to win awesome prizes! This has become one of our most popular events so get to the winery early to grab a spot and enjoy some drinks and food. The Stuff'd Buns food truck will be on site from 6-9pm serving up some delicious dinner and snacks.
X-ALT-DESC;FMTTYPE=text/html:Join us for Trivia Night\, Friday\, June 22 from 7:30-9pm. Bring your smartest friends and compete to win awesome prizes! This has become one of our most popular events so get to the winery early to grab a spot and enjoy some drinks and food. The Stuff&rsquo\;d Buns food truck will be on site from 6-9pm serving up some delicious dinner and snacks.
LOCATION:Stone and Key Cellars 435 Doylestown Road Montgomeryville\, PA 18936
UID:e.2385.7704
SEQUENCE:3
DTSTAMP:20260421T202129Z
URL:https://business.chambergmc.org/events/details/trivia-night-food-truck-friday-7704
END:VEVENT

END:VCALENDAR
