BEGIN:VCALENDAR
VERSION:2.0
PRODID:-//ChamberMaster//Event Calendar 2.0//EN
METHOD:PUBLISH
X-PUBLISHED-TTL:P3D
REFRESH-INTERVAL:P3D
CALSCALE:GREGORIAN
BEGIN:VEVENT
DTSTART:20210924T223000Z
DTEND:20210925T023000Z
X-MICROSOFT-CDO-ALLDAYEVENT:FALSE
SUMMARY:Trivia Night LIVE!
DESCRIPTION:Team up with friends for a fun & exciting fast-paced TRIVIA NIGHT! Friday September 24th for our LIVE event! A table of 10 people makes a team! Raffles and door prizes available. This event is BYOB. Proceeds from the event will benefit The Giving Tree's #MontcoServes campaign.
X-ALT-DESC;FMTTYPE=text/html:Team up with friends for a fun &amp\; exciting fast-paced TRIVIA NIGHT! Friday September 24th for our LIVE event! A table of 10 people makes a team! Raffles and door prizes available. This event is BYOB. Proceeds from the event will benefit The Giving Tree&#39\;s #MontcoServes campaign.
LOCATION:The Empress Room at St. Helena's 1489 DeKalb Pike Blue Bell\, PA 19422
UID:e.2385.11153
SEQUENCE:3
DTSTAMP:20260422T123352Z
URL:https://business.chambergmc.org/events/details/trivia-night-live-11153
END:VEVENT

END:VCALENDAR
