BEGIN:VCALENDAR
VERSION:2.0
PRODID:-//ChamberMaster//Event Calendar 2.0//EN
METHOD:PUBLISH
X-PUBLISHED-TTL:P3D
REFRESH-INTERVAL:P3D
CALSCALE:GREGORIAN
BEGIN:VEVENT
DTSTART;VALUE=DATE:20190909
DTEND;VALUE=DATE:20190914
TRANSP:TRANSPARENT
X-MICROSOFT-CDO-ALLDAYEVENT:TRUE
SUMMARY:TSA Pre-Enrollment Event
DESCRIPTION:AAA East Central is offering a TSA Pre-Enrollment pop-up event September 9-13 at the Allentown AAA office located at 2072 Downyflake Lane. The cost to obtain TSA Pre-Check is $85 and is valid for 5 years. Appointment hours: M\,T\,W\,F from 9AM to 12PM and 1PM to 5PM\; Thurs. 10AM to 1PM and 2PM to 6PM. To schedule an appointment visit AAA.com/TSA. Walk-ins are welcome\, but appointments take priority.
X-ALT-DESC;FMTTYPE=text/html:AAA East Central is offering a TSA Pre-Enrollment pop-up event September 9-13 at the Allentown AAA office located at 2072 Downyflake Lane. The cost to obtain TSA Pre-Check is $85 and is valid for 5 years. Appointment hours: M\,T\,W\,F from 9AM to 12PM and 1PM to 5PM\; Thurs. 10AM to 1PM and 2PM to 6PM. To schedule an appointment visit AAA.com/TSA. Walk-ins are welcome\, but appointments take priority.
LOCATION:AAA Allentown\, 2072 Downyflake Lane\, Allentown
UID:e.2385.10057
SEQUENCE:3
DTSTAMP:20260423T182030Z
URL:https://business.chambergmc.org/events/details/tsa-pre-enrollment-event-10057
END:VEVENT

END:VCALENDAR
