BEGIN:VCALENDAR
VERSION:2.0
PRODID:-//ChamberMaster//Event Calendar 2.0//EN
METHOD:PUBLISH
X-PUBLISHED-TTL:P3D
REFRESH-INTERVAL:P3D
CALSCALE:GREGORIAN
BEGIN:VEVENT
DTSTART:20201120T140000Z
DTEND:20201120T220000Z
X-MICROSOFT-CDO-ALLDAYEVENT:FALSE
SUMMARY:TSA PreCheck Enrollment Event at AAA Lansdale Office November 16-20\, 2020
DESCRIPTION:Get in the fast lane at the airport by enrolling in TSA PreCheck!\n\nThe credential is valid for 5 years. Advance registration and a face mask/covering is required. Fee: $85\n\n\n\nTo register for an appointment visit AAA.com/TSA. Appointments will be available beginning October 6\, 2020.
X-ALT-DESC;FMTTYPE=text/html:Get in the fast lane at the airport by enrolling in TSA PreCheck!<br />\nThe credential is valid for 5 years. Advance registration and a face mask/covering is required. Fee: $85<br />\n<br />\nTo register for an appointment visit AAA.com/TSA. Appointments will be available beginning October 6\, 2020.
LOCATION:AAA Lansdale Office 1250 N. Broad St. Lansdale\, PA 19446
UID:e.2385.10740
SEQUENCE:3
DTSTAMP:20260423T014128Z
URL:https://business.chambergmc.org/events/details/tsa-precheck-enrollment-event-at-aaa-lansdale-office-november-16-20-2020-11-20-2020-10740
END:VEVENT

END:VCALENDAR
