BEGIN:VCALENDAR
VERSION:2.0
PRODID:-//ChamberMaster//Event Calendar 2.0//EN
METHOD:PUBLISH
X-PUBLISHED-TTL:P3D
REFRESH-INTERVAL:P3D
CALSCALE:GREGORIAN
BEGIN:VEVENT
DTSTART:20190121T150000Z
DTEND:20190121T183000Z
X-MICROSOFT-CDO-ALLDAYEVENT:FALSE
SUMMARY:Tu B’Shevat: The Jewish New Year of Trees
DESCRIPTION:Tu B'Shevat is a celebration of the "New Year of Trees" in the Jewish Culture. This day has developed into an ecological holiday and as a reminder of the connection to the earth and the role of humans as caretakers of the environment.\n\n\n\nDuring this event\, we will play games to learn all of the ways trees provide for us and learn how to identify trees. We will learn about trees we have on campus that are found in Jewish traditions. \nFamily Tree Walk and Story Time: 10 to 11 a.m. (Register Here) \n\n\n\nWinter Tree Appreciation Walk: 12:30 to 1:30 p.m. (Register Here)\nFor additional information\, contact 267-468-8018 or duffyj@temple.edu.
X-ALT-DESC;FMTTYPE=text/html:<span style="font-size:14px">Tu B&rsquo\;Shevat is a celebration of the &ldquo\;New Year of Trees&rdquo\; in the Jewish Culture. This day has developed into an ecological holiday and as a reminder of the connection to the earth and the role of humans as caretakers of the environment.<br />\n<br />\nDuring this event\, we will play games to learn all of the ways trees provide for us and learn how to identify trees. We will learn about trees we have on campus that are found in Jewish traditions.&nbsp\;</span>\n<p><span style="font-size:14px"><span style="font-family:arial\,helvetica\,sans-serif"><strong>Family Tree Walk and Story Time: 10 to 11 a.m. (<a href="https://docs.google.com/forms/d/e/1FAIpQLSfQhSovMmIS8iPwhRlws5UNnMr3LPi0hkcHTA2uXi8j7UA-hQ/viewform" target="_blank">Register Here</a>) </strong><br />\n<br />\n<strong><strong>Winter Tree Appreciation Walk: 12:30 to 1:30 p.m.&nbsp\;(<a href="/tu-b%E2%80%99shevat-jewish-new-year-trees-registration" target="_blank">Register Here</a>)</strong></strong></span></span></p>\n<span style="font-family:arial\,helvetica\,sans-serif"><span style="font-size:12px"><span style="font-size:14px"><span style="color:#222222">For additional information\, contact 267-468-8018 or&nbsp\;</span><a href="mailto:duffyj@temple.edu"><span style="color:#007bc2">duffyj@temple.edu</span></a><span style="color:#222222">.</span></span></span></span>
LOCATION:Temple University Ambler\, 580 Meetinghouse Road\, Ambler\, PA 19002
UID:e.2385.3018
SEQUENCE:3
DTSTAMP:20260422T053848Z
URL:https://business.chambergmc.org/events/details/tu-b-shevat-the-jewish-new-year-of-trees-01-31-2018-3018
END:VEVENT

END:VCALENDAR
