BEGIN:VCALENDAR
VERSION:2.0
PRODID:-//ChamberMaster//Event Calendar 2.0//EN
METHOD:PUBLISH
X-PUBLISHED-TTL:P3D
REFRESH-INTERVAL:P3D
CALSCALE:GREGORIAN
BEGIN:VEVENT
DTSTART:20180201T213000Z
DTEND:20180201T170000Z
X-MICROSOFT-CDO-ALLDAYEVENT:FALSE
SUMMARY:Un Wine Thursdays
DESCRIPTION:Un Wine Thursday! Happy hour from 4:30 pm to 6:00 pm every Thursday. Up to 3 free wine tastings and 10% of purchases of wine.
X-ALT-DESC;FMTTYPE=text/html:Un Wine Thursday! Happy hour from 4:30 pm to 6:00 pm every Thursday. Up to 3 free wine tastings and 10% of purchases of wine.
LOCATION:Cardinal Hollow Winery
UID:e.2385.2999
SEQUENCE:3
DTSTAMP:20260421T161311Z
URL:https://business.chambergmc.org/events/details/un-wine-thursdays-02-01-2018-2999
END:VEVENT

END:VCALENDAR
