BEGIN:VCALENDAR
VERSION:2.0
PRODID:-//ChamberMaster//Event Calendar 2.0//EN
METHOD:PUBLISH
X-PUBLISHED-TTL:P3D
REFRESH-INTERVAL:P3D
CALSCALE:GREGORIAN
BEGIN:VEVENT
DTSTART:20190328T170000Z
DTEND:20190328T180000Z
X-MICROSOFT-CDO-ALLDAYEVENT:FALSE
SUMMARY:Understanding the Retirement Red Zone® - Tycor Webinar
DESCRIPTION:Are your retirement income challenges a source of concern? - Navigating uncertain markets - Rising costs - Longer life spans Join us as we discuss the Retirement Red Zone \, the critical time period when you need a strategy for turning your savings into income that can last a lifetime. Our Webinars are complimentary! Register by 3/26/19. PA CPE credits available. Presented by: Jason Brown\, Prudential
X-ALT-DESC;FMTTYPE=text/html:Are your retirement income challenges a source of concern? - Navigating uncertain markets - Rising costs - Longer life spans Join us as we discuss the Retirement Red Zone&reg\;\, the critical time period when you need a strategy for turning your savings into income that can last a lifetime. Our Webinars are complimentary! Register by 3/26/19. PA CPE credits available. Presented by: Jason Brown\, Prudential
LOCATION:Webinar. Register for dial in information.
UID:e.2385.8669
SEQUENCE:3
DTSTAMP:20260422T082649Z
URL:https://business.chambergmc.org/events/details/understanding-the-retirement-red-zone-tycor-webinar-8669
END:VEVENT

END:VCALENDAR
