BEGIN:VCALENDAR
VERSION:2.0
PRODID:-//ChamberMaster//Event Calendar 2.0//EN
METHOD:PUBLISH
X-PUBLISHED-TTL:P3D
REFRESH-INTERVAL:P3D
CALSCALE:GREGORIAN
BEGIN:VEVENT
DTSTART:20190522T223000Z
DTEND:20190522T233000Z
X-MICROSOFT-CDO-ALLDAYEVENT:FALSE
SUMMARY:Floral & Hardy - Unusual Annuals
DESCRIPTION:Learn about unusual annuals during this free wine and cheese class.  We'll talk about some interesting varieties such as Albuca 'Frizzle Sizzle'\, Evolvulus 'Blue My Mind'\, and the Cigar Plant\, Cuphea 'Vermillionaire'.  Add some of these conversation pieces to your garden beds and containers!  Presentation will be given by Penn State Master Gardener\, Susan Doblmaier. \n\n\nPlease RSVP: http://floralandhardyofskippack.com/events/unusual-annuals/
X-ALT-DESC;FMTTYPE=text/html:<div style="text-align:justify"><span style="background-color:transparent\; color:rgb(0\, 0\, 0)\; font-family:arial\,helvetica\,sans-serif\; font-size:13px">Learn about unusual annuals during this free wine and cheese class.&nbsp\; We&rsquo\;ll talk about some interesting varieties such as Albuca &lsquo\;Frizzle Sizzle&rsquo\;\, Evolvulus &lsquo\;Blue My Mind&rsquo\;\, and the Cigar Plant\, Cuphea &lsquo\;Vermillionaire&rsquo\;.&nbsp\; Add some of these conversation pieces to your garden beds and containers!&nbsp\; Presentation will be given by Penn State Master Gardener\, Susan Doblmaier. </span></div>\n<br />\n<span style="background-color:transparent\; color:rgb(0\, 0\, 0)\; font-family:arial\,helvetica\,sans-serif\; font-size:13px">Please RSVP:&nbsp\;<a href="http://floralandhardyofskippack.com/events/unusual-annuals/">http://floralandhardyofskippack.com/events/unusual-annuals/</a></span>
LOCATION:Floral & Hardy 4007 Skippack Pike Skippack\, PA 19474
UID:e.2385.8660
SEQUENCE:3
DTSTAMP:20260422T111720Z
URL:https://business.chambergmc.org/events/details/unusual-annuals-8660
END:VEVENT

END:VCALENDAR
