BEGIN:VCALENDAR
VERSION:2.0
PRODID:-//ChamberMaster//Event Calendar 2.0//EN
METHOD:PUBLISH
X-PUBLISHED-TTL:P3D
REFRESH-INTERVAL:P3D
CALSCALE:GREGORIAN
BEGIN:VEVENT
DTSTART:20171109T230000Z
DTEND:20171110T010000Z
X-MICROSOFT-CDO-ALLDAYEVENT:FALSE
SUMMARY:Unveiling of Laurel House's Custom Pin
DESCRIPTION:Be the first to see the custom domestic violence awareness pin designed by Marks Jewelers. Enjoy complimentary drinks\, appetizers and desserts while hearing from survivor and advocate speakers.
X-ALT-DESC;FMTTYPE=text/html:Be the first to see the custom domestic violence awareness pin designed by Marks Jewelers. Enjoy complimentary drinks\, appetizers and desserts while hearing from survivor and advocate speakers.
LOCATION:Marks Jewelers 975 Bethlehem Pike\, Montgomeryville
UID:e.2385.2653
SEQUENCE:3
DTSTAMP:20260421T112220Z
URL:https://business.chambergmc.org/events/details/unveiling-of-laurel-house-s-custom-pin-11-09-2017-2653
END:VEVENT

END:VCALENDAR
